BEGIN:VCALENDAR
VERSION:2.0
PRODID:-//ExpressionEngine Easy iCalendar plugin//NONSGML v2.0.1//EN
X-WR-TIMEZONE:America/Chicago
X-WR-CALNAME:Upcoming Auctions
BEGIN:VEVENT
UID:100511
DTSTAMP:20230504T130000
DTSTART:20230504T130000
DTEND:20230521T140000
SUMMARY:Francis Tuttle Tools\, Machinery\, & Equipment
LOCATION:12777 N Rockwell Ave\, Oklahoma City\, OK 73142\, US
DESCRIPTION:DATE & TIME Auction Closes: Sunday\, May 21st\, Beginning @ 2:
 00pm LOCATION & DIRECTIONS Items are located at: Francis Tut
 tle\, 12777 N Rockwell Ave\, 73142 SALE INFORMATION Inspection
  of items will be held by appointment only on Friday\, May 19
 th. Auction will be held online only. Download the Bray Auct
 ions App for iOS and Android Devices or bid online by clicki
 ng here. Bidders are required to create an account and input
  credit card information for authorization. All Purchases Mu
 st Be Paid For Before They Can Be Picked Up. Cash\, Checks\, C
 redit / Debit Cards\, and Wire Transfers Will Be Accepted. (3
 % Convenience Fee on All Credit /Debit Card Purchases). A 10
 % Buyer's Premium Will Be In Effect. Removal of Items will b
 e held by scheduled appointment on Monday\, May 22nd through
  Wednesday\, May 24th. Winning Bidders will be contacted to c
 hoose an appointment on Bray Auctions' scheduling system.
URL:https://www.bidbray.com/auctions/detail/bw100511
SEQUENCE:1
END:VEVENT
END:VCALENDAR