BEGIN:VCALENDAR
VERSION:2.0
PRODID:-//ExpressionEngine Easy iCalendar plugin//NONSGML v2.0.1//EN
X-WR-TIMEZONE:America/Chicago
X-WR-CALNAME:Upcoming Auctions
BEGIN:VEVENT
UID:101155
DTSTAMP:20230604T130000
DTSTART:20230604T130000
DTEND:20230626T130000
SUMMARY:ARS America Equipment Auction
LOCATION:200 NE 48th St\, Oklahoma City\, OK 73105\, US
DESCRIPTION:DATE & TIME Auction Closes: Sunday\, June 4th\, Beginning @ 3:
 00pm LOCATION & DIRECTIONS Items are located at: ARS America
 \, Inc. 200 NE 48th St\, Oklahoma City\, OK 73105 SALE INFORMA
 TION Inspection of items will be held during business hours 
 at ARS America. Auction will be held online only. Download t
 he Bray Auctions App for iOS and Android Devices or bid onli
 ne by clicking here. Bidders are required to create an acco
 unt and input credit card information for authorization. All
  Purchases Must Be Paid For Before They Can Be Picked Up. Ca
 sh\, Checks\, Credit / Debit Cards\, and Wire Transfers Will Be
  Accepted. (3% Convenience Fee on All Credit /Debit Card Pur
 chases). A 10% Buyer's Premium Will Be In Effect. Removal of
  Items will be held by scheduled appointment on Monday\, June
  5th through Wednesday\, June 7th 12th. Winning Bidders will 
 be contacted to choose an appointment on Bray Auctions' sche
 duling system.
URL:https://www.bidbray.com/auctions/detail/bw101155
SEQUENCE:1
END:VEVENT
END:VCALENDAR