BEGIN:VCALENDAR
VERSION:2.0
PRODID:-//ExpressionEngine Easy iCalendar plugin//NONSGML v2.0.1//EN
X-WR-TIMEZONE:America/Chicago
X-WR-CALNAME:Upcoming Auctions
BEGIN:VEVENT
UID:103716
DTSTAMP:20230707T130000
DTSTART:20230707T130000
DTEND:20230730T150000
SUMMARY:July 2023 Firearms\, Ammo & Accessories
LOCATION:3900 S Broadway\, 2W\, Edmond\, OK 73013\, US
DESCRIPTION:DATE & TIME Auction Closes: Sunday\, July 23rd\, Beginning @ 3
 :00pm LOCATION & DIRECTIONS Items are located at: 3900 S Bro
 adway\, 2W\, Edmond\, OK 73013 SALE INFORMATION Inspection of i
 tems will be held by special appointment only. Auction will 
 be held online only. Download the Bray Auctions App for iOS 
 and Android Devices or bid online by clicking here. Bidders
  are required to create an account and input credit card inf
 ormation for authorization. All Purchases Must Be Paid For B
 efore They Can Be Picked Up. Cash\, Checks\, Credit / Debit Ca
 rds\, and Wire Transfers Will Be Accepted. (3% Convenience Fe
 e on All Credit /Debit Card Purchases). A 10% Buyer's Premiu
 m Will Be In Effect. Removal of Items will be held by schedu
 led appointment on Monday\, July 24th through Wednesday\, July
  26th. Winning Bidders will be contacted to choose an appoin
 tment on Bray Auctions' scheduling system. For Any Questions
 \, Call (405) 888-5366. For Questions\, Contact Bray Auctions 
 @ 405.888.5366
URL:https://www.bidbray.com/auctions/detail/bw103716
SEQUENCE:1
END:VEVENT
END:VCALENDAR