BEGIN:VCALENDAR
VERSION:2.0
PRODID:-//ExpressionEngine Easy iCalendar plugin//NONSGML v2.0.1//EN
X-WR-TIMEZONE:America/Chicago
X-WR-CALNAME:Upcoming Auctions
BEGIN:VEVENT
UID:105153
DTSTAMP:20230731T100000
DTSTART:20230731T100000
DTEND:20230803T180000
SUMMARY:AAAA Wrecker Impound Auction
LOCATION:3307 NE 10th St\, Oklahoma City\, OK 73117\, US
DESCRIPTION:TERMS & CONDITIONS: Â  All vehicles are sold AS-IS\; it is th
 e buyer's responsibility to inspect and verify information r
 egarding vehicles\;Â AAAAWreckerÂ and Bray Auctions have prov
 ided information to the best of their ability\, but no guaran
 tees or warranties are expressed nor implied. Highest Bidder
  Wins. The online bidding platform will close at a rate of 1
  item per minute. If a bid is made within the final 3 minute
 s of any item\, the timer on THAT item will be reset to 3 min
 utes. Back up bidders and others will have the opportunity t
 o bid again on that item. An item does not close or sell unt
 il the final 3 minutes elapse with no further bids. All sale
 s are final - No refunds. It is the bidder's responsibility 
 to due diligence on all items purchased. Any bidder that win
 s an item and does not pay will have their bidding credentia
 ls revoked and will NEVER be permitted to bid again.Â AAAAÂ 
 Wrecker Service will not sell a vehicle to the previous regi
 stered owner whether known or not\, at the time of bidding. A
 ll items must be paid for before they are removed. ALL items
  must be paid for and removed on Monday through Wednesday fo
 llowing the auction close\, from 8:00am to 4:00pm. No pick up
 s after 4:00pm or on weekends. Payments will be made atÂ AAA
 AÂ Wrecker Service byÂ cash or debit card only.Â No checks o
 r credit cards. AAAAÂ Wrecker follows title 42 regulations f
 or all vehicles.Â AAAAÂ Wrecker is at the mercy of the Oklah
 oma Tax Commission. Until Title 42 paperwork is approved\, yo
 u are not the registered owner. If you choose to drive a veh
 icle purchased fromÂ AAAAÂ Wrecker\, you are doing so atÂ you
 r own risk.Â AAAAÂ WreckerÂ does notÂ offer temporary tags. 
 If you choose to spend money making repairs of any kind befo
 re the paperwork is approved\, you are doing so at your own r
 isk. All paperwork will be done in the bidders nameÂ only. N
 o exceptions. There is no timeline on getting paperwork andÂ
  AAAAÂ Wrecker makes no guarantees. AAAAÂ Wrecker does not g
 uarantee any lien releases for vehicles purchased from aucti
 on. Due to insurance regulations\, all vehicles will leave th
 e lot driven\,Â trailered\, or towed by a wrecker.Â No excepti
 ons. No repairs to any vehicle shall be made while onÂ AAAAÂ
  Wrecker lot\; front or back. No vehicles will be moved byÂ A
 AAAWreckerÂ staff. If you need it moved\, you will have to pa
 y a hook-up fee. NOTICE - Any vehicles not picked up and pai
 d for by the Friday following the auction will be subject to
  a $25 per day storage fee. If you have questions about vehi
 cles\, please callÂ AAAAÂ Wrecker at 405-424-4869. If you hav
 e questions about bidding\, please call Bray Auctions at 405-
 888-5366. Good luck!
URL:https://www.bidbray.com/auctions/detail/bw105153
SEQUENCE:1
END:VEVENT
END:VCALENDAR