BEGIN:VCALENDAR
VERSION:2.0
PRODID:-//ExpressionEngine Easy iCalendar plugin//NONSGML v2.0.1//EN
X-WR-TIMEZONE:America/Chicago
X-WR-CALNAME:Upcoming Auctions
BEGIN:VEVENT
UID:105542
DTSTAMP:20230807T100000
DTSTART:20230807T100000
DTEND:20230817T200000
SUMMARY:Oklahoma Geological Foundation Silent Auction2023 Swing FORE
  Stem
LOCATION:13313 Pawnee Dr\, Oklahoma City\, OK 73114\, US
DESCRIPTION:The Oklahoma Geological Foundation will hold its 5th annual
  Rocks & Swing FORE STEM event on August 17th\, 2023\, at To
 pGolf Oklahoma City.  This year will have over 75 silent 
 auction items of beautiful fossils and minerals along with t
 hree dream vacations being offered: Safari Extravaganza\, 7 
 days & 6 nights for 2 (valued @ $13\,000) Includes private ve
 hicle\, driver\, guide & meals!! Dominican Republic Villa\, 5 
 days & 4 nights for 6 (valued @ $11\,860) Includes a stay at 
 a private villa with food & private chef!! Belize for Chocol
 ate lovers 6 days & 5 nights for 2 (valued @ $5\,650) Include
 s a stay in the Lodge at Big Falls in the heart of the cacao
  district!! Come to the event and bid on the live auction wi
 th 14 unique items. Join us in having fun hitting golf balls
 \, socializing\, and feasting on a great dinner prepared by Ba
 ck Yard Bar-B-Que prior to the auction. Auctioneers Tom Ber
 ry and Richard Branch will entertain again this year and auc
 tion off the Live items highlighted with wine collections\, s
 pectacular minerals\, fossils and more. You won’t want to m
 iss the fun and auction excitement so get your tickets below
  or consider being a sponsor for this special event to be he
 ld at TopGolf Oklahoma City\, 6PM on Thursday\, August 17th 
   2023.  One hundred percent of the net proceeds from thi
 s event help the Foundation provide funding for earth scienc
 e projects for schools\, grades K through 12 and scholarships
  for university level students\, all in the State of Oklahoma
 .
URL:https://www.bidbray.com/auctions/detail/bw105542
SEQUENCE:1
END:VEVENT
END:VCALENDAR