BEGIN:VCALENDAR
VERSION:2.0
PRODID:-//ExpressionEngine Easy iCalendar plugin//NONSGML v2.0.1//EN
X-WR-TIMEZONE:America/Chicago
X-WR-CALNAME:Upcoming Auctions
BEGIN:VEVENT
UID:106118
DTSTAMP:20230815T120000
DTSTART:20230815T120000
DTEND:20230828T140000
SUMMARY:High End Estate Auction - Entire Household!
LOCATION:3900 S Broadway\, 2W\, Edmond\, OK 73013\, US
DESCRIPTION:DATE & TIME Auction Closes: Monday\, August 28th\, Beginning @
  2:00pm LOCATION & DIRECTIONS Items are located at in storag
 e near NW 150th & May Ave. Exact directions and pick up inst
 ructions will be sent to winning bidders. SALE INFORMATION I
 nspection of items will be held by appointment on Monday\, Au
 gust 28th by appointment only. Auction will be held online o
 nly. Download the Bray Auctions App for iOS and Android Devi
 ces or bid online by clicking here. Bidders are required to 
 create an account and input credit card information for auth
 orization. All Purchases Must Be Paid For Before They Can Be
  Picked Up. Cash\, Checks\, Credit / Debit Cards\, and Wire Tra
 nsfers Will Be Accepted. (3% Convenience Fee on All Credit /
 Debit Card Purchases). A 10% Buyer's Premium Will Be In Effe
 ct. Removal of Items will be held by appointment on Tuesday\,
  August 29th and Wednesday\, August 30th. Winning Bidders wil
 l be required to schedule an appointment on Bray Auctions sc
 heduling system. For Any Questions\, Call (405) 888-5366.  
URL:https://www.bidbray.com/auctions/detail/bw106118
SEQUENCE:1
END:VEVENT
END:VCALENDAR