BEGIN:VCALENDAR
VERSION:2.0
PRODID:-//ExpressionEngine Easy iCalendar plugin//NONSGML v2.0.1//EN
X-WR-TIMEZONE:America/Chicago
X-WR-CALNAME:Upcoming Auctions
BEGIN:VEVENT
UID:106470
DTSTAMP:20230821T130000
DTSTART:20230821T130000
DTEND:20230915T130000
SUMMARY:Large Tuttle Vehicle\, Equipment\, & Tool Auction
LOCATION:905 County St 2940\, Tuttle\, OK 73089\, US
DESCRIPTION:DATE & TIME Auction Closes: Friday\, September 15th\, Beginnin
 g @ 1:00pm LOCATION & DIRECTIONS Items are located at 905 Co
 unty St 2940\, Tuttle\, OK 73089. SALE INFORMATION Inspection 
 of items will be held on Thursday\, September 14th from 10am 
 to 3pm Auction will be held online only. Download the Bray A
 uctions App for iOS and Android Devices or bid online by cli
 cking here. Bidders are required to create an account and in
 put credit card information for authorization. All Purchases
  Must Be Paid For Before They Can Be Picked Up. Cash\, Checks
 \, Credit / Debit Cards\, and Wire Transfers Will Be Accepted.
  (3% Convenience Fee on All Credit /Debit Card Purchases). A
  10% Buyer's Premium Will Be In Effect. Removal of Items wil
 l be held from 10am to 3pm on Saturday\, September 16th and S
 unday\, September  17th. Winning Bidders will be required to
  schedule an appointment on Bray Auctions scheduling system.
  For Any Questions\, Call (405) 888-5366.    
URL:https://www.bidbray.com/auctions/detail/bw106470
SEQUENCE:1
END:VEVENT
END:VCALENDAR