BEGIN:VCALENDAR
VERSION:2.0
PRODID:-//ExpressionEngine Easy iCalendar plugin//NONSGML v2.0.1//EN
X-WR-TIMEZONE:America/Chicago
X-WR-CALNAME:Upcoming Auctions
BEGIN:VEVENT
UID:109234
DTSTAMP:20231008T130000
DTSTART:20231008T130000
DTEND:20231105T130000
SUMMARY:UPDATE: Selling ABSOLUTE! 30 Acre Raw Land S of NW 63rd and 
 Sooner Rd\, OKC
LOCATION:~6250 Sooner Rd - 30 Acres\, Oklahoma City\, OK 73141\, US
DESCRIPTION:30 Acres of Prime Real Land in OKC\, Near Adventure District!
 !! Selling at public auction is 30 acres of prime real estat
 e just south of NW 63rd and Sooner Rd. The property for sale
  is the SW 3/4 of the NW 1/4 of the NW 1/4 of Section of Tow
 nship 12N Range 2W\, just south of NW 63rd St and Sooner Rd. 
 Easily accessible by I-35 and close to the developing OKC Ad
 venture District\, this property boasts beautiful\, natural gr
 owth and is ready for multi-unit development or single famil
 y living. Auction Closes Sunday\, November 5th @ 1:00pm SALE 
 INFORMATION: Auction will be held online only. Prospective b
 idders are required to create an account and submit informat
 ion for approval to bid. Showings by appointment only. Terms
  On Real Estate: $5\,000 Deposit / Earnest Money Is Due At Th
 e Signing of the Contract\, Within 24 Hours of Auction Close.
  A 10% Buyer's Premium Will Be In Effect. DATE & TIME Auctio
 n Closes: Sunday\, November 5th @ 1:00pm LOCATION & DIRECTIO
 NS 30 Acres Total - The South 3/4 of the NW 1/4 of the NW 1/
 4 of Section 9\, Township 12N\, Range 2W - 30 Acres Total Prop
 erty line begins 330' South of NW 63rd and continues for 990
 ' Along the frontage of N Sooner Rd. Property extends 1/4 mi
 le east from N Sooner Rd. TERMS AND CONDITIONS Buyer Registr
 ation: By registering and accepting a number\, all bidders ag
 ree to abide by all of the Terms of Sale. Bidder Verificatio
 n: The identity of all bidders will be verified\, bidding rig
 hts are provisional\, and if complete verification is not pos
 sible\, Bray Auctions LLC. will reject the registration and b
 idding activity will be terminated. Auctioneer Rights: All d
 ecisions of the Auctioneer are final. The Auctioneer reserve
 s the right to reject any bid or bidder and has the right to
  accept back-up contracts the day of sale. Bray Auctions LLC
 . has the sole authority to resolve any bidding disputes as 
 they may arise. Bray Auctions LLC. reserves the right to rem
 ove or cancel the bids and or bidding rights and privileges 
 of any party\, deemed not to be in the best interest of the s
 eller\, at any time. Online Only Earnest Money Deposit: At th
 e close of the auction\, the successful high bidder will be e
 mailed\, faxed or delivered the contract package to execute a
 nd return to Bray Auctions LLC.  within 24 hours.  The suc
 cessful bidder will also be required to submit an Earnest Mo
 ney Deposit of $5\,000 via certified check or wire transfer t
 o the designated Closing Agent for Escrow within 24 hours. T
 he entirety of the remaining balance is due at closing. Purc
 haser shall be responsible for all wire transfer fees. Depos
 it funds are non-refundable unless title cannot be transferr
 ed Buyers Premium: A 10% buyer’s premium will be added to 
 the high bid price to determine the Total Contract Price. 10
 % Buyer’s Premium Example: Bid Price: $100\,000 Plus 10% Bu
 yer’s Premium: $10\,000 Total Contract Price: $110\,000 Cont
 racts: A Contract Package will be sent by e-mail\, fax or ove
 rnight to the successful high bidder\, who must execute and e
 mail\, fax or overnight mail back to Bray Auctions LLC. withi
 n 24 hours of receipt. If the successful high bidder does no
 t execute and return the contract along with an earnest mone
 y deposit within 24 hours of receipt they will be considered
  in default and subject to legal action. This is a legal bin
 ding contract. Technical Issues: Neither the company providi
 ng the software nor the auction company shall be held respon
 sible for a missed bid or the failure of the software to fun
 ction properly for any reason. The online bidding will begin
  to close at the specified time as per advertised. Please ca
 ll 405-888-5366 if you need assistance with the online biddi
 ng platform. Bidding Process: The Auctioneer reserves the ri
 ght\, but has no obligation\, to bid on behalf of the Seller u
 p to the undisclosed reserve price\, unless the property is d
 eclared “Absolute” or the “Reserve has been met”. Th
 e bidder’s number is nontransferable. All Sales are Final:
  By registering and bidding\, the buyer acknowledges they und
 erstand and agree to the Terms of Sale. The Buyer acknowledg
 es that they have read the Auction Purchase and Sale Agreeme
 nt and the Terms and Conditions of the Auction Sale provided
  by Auctioneer and accept the Auction Purchase and Sale Agre
 ement without any changes to the preprinted text. Representa
 tion: Although information has been obtained from sources de
 emed reliable\, the Auctioneers\, Bray Auctions LLC.\, its repr
 esentatives\, employees\, firm\, broker\, their attorney’s nor
  the Seller make any guarantee or warranty of any kind expre
 ssed or implied as to the accuracy of the information herein
  contained. Property: The property\, offered for sale at the 
 Auction is being sold “AS IS”\, “WHERE IS”\, WITH ALL
  FAULTS AND DEFECTS”\, without warranty or guarantee of any
  kind\, except as expressly provided for in the Auction Purch
 ase and Sale Agreement and Terms and Conditions of the Aucti
 on Sale. Each potential Buyer is encouraged to perform his/h
 er own independent inspections\, inquiries and due diligence 
 concerning the described property. The information is being 
 furnished to bidders for the bidder's convenience and it is 
 the responsibility of the bidder to determine that informati
 on contained herein is accurate and complete. Any reliance o
 n the contents shall be solely at the recipient's risk. It i
 s the Buyer’s responsibility to inspect the property prior
  to bidding to make their determination as to the condition 
 or seek professional inspection (at the Buyer’s expense) o
 f the property. Buyer(s) agrees to accept property with its 
 current zoning\, easements\, and any and all right-of-ways tha
 t carry with it. All information is taken from sources deeme
 d to be accurate and reliable\, all measurements are approxim
 ate and not to scale. The Seller and the Auctioneers\, Bray A
 uctions LLC.\, contractors\, employees\, firm\, or brokers assum
 e no liability in this matter. Any and all announcements mad
 e the day of auction take precedence over any and all previo
 usly written advertisements or any prior written or verbal t
 erms of sale but shall in no event form the basis of any rep
 resentation or warranty by Seller or Auctioneers. By bidding
  on the property\, you are accepting all terms and conditions
  stated herein. Financing: The purchase is not contingent on
  obtaining financing or qualification for financing. Buyer D
 efault: In the event a high bid is accepted and the Buyer fa
 ils to close or comply with the terms of the Auction Purchas
 e and Sale Agreement\, then the earnest money will be forfeit
 ed as liquidated damages\, but such forfeiture shall not affe
 ct any other remedies available to Seller for such failure. 
 Indemnity: The Buyer assumes full responsibility and liabil
 ity for any claim or actions based on or arising out of inju
 ries\, death\, damage\, loss of property\, sustained or alleged 
 to have been sustained by Buyer\, its agent\, principals\, asso
 ciates\, friends\, family and/or employees\, in connection with
  or to have arisen out of or incidental to the auction inclu
 ding but not limited to the performance of this contract. Re
 gardless of whether such claims or actions are founded whole
  or in part upon alleged negligence or negligent misrepresen
 tation of Seller\, Auctioneer\, or the employees\, agents\, invi
 tees\, or licensees thereof\, Buyer agrees to indemnify and ho
 ld harmless Seller\, Auctioneer\, and their representatives\, a
 nd the employees\, agents\, invitees and licensees thereof in 
 respect of any such matters and agrees to defend any claim o
 r suit or action brought against Seller\, Auctioneer\, and the
 ir representatives\, and the employees\, agents\, invitees and 
 licensees thereof. Environmental Disclaimer: The Seller and
  Bray Auctions LLC.\, agents\, contractors and employees do no
 t warrant or covenant with Buyer(s) with respect to the exis
 tence or nonexistence of any pollutants\, contaminants\, mold\,
  or hazardous waste prohibited by federal\, state or local la
 w or claims based thereon arising out of the actual or threa
 tened discharge\, release\, disposal\, seepage\, migration or es
 cape of such substances at\, from or into the demised premise
 s. Buyers are to rely upon their own environmental audit or 
 examination of the premises. Acreage and Square Feet: All a
 creages and square feet descriptions are approximate. If the
 re is a discrepancy between Bray Auctions LLC.\, or its repre
 sentative and the actual acreage and/or square feet as deter
 mined by a surveyor or appraiser\, the price will not be adju
 sted. The statements\, while not guaranteed\, are from reliabl
 e sources. Any costs incurred in establishing boundaries sha
 ll be the responsibility of the buyer(s). Each sale is subje
 ct to easements\, right-of-way\, reservation and/or restrictio
 ns of record. Closing: TIME IS OF THE ESSENCE. The balance 
 of the purchase price will be within 30 days from the Commen
 cement Date\, which is the date of mutual execution of the Pu
 rchase Sale Agreement by the Seller and Buyer. The Seller at
  closing will convey the real estate with a Special or Gener
 al Warranty Deed\, as specified by the Purchase Sale Agreemen
 t. Buyer is responsible for all customary closing costs asso
 ciated with closing to include but not limited to all transf
 er and recording closing fees\, financing expenses\, title fee
 s\, title insurance\, survey\, easement and appraisal. Taxes wi
 ll be prorated from date of closing. BY REGISTERING TO BID\, 
 YOU HAVE ACKNOWLEDGED: • I have read and agree to the Term
 s and Conditions of Auction Sale as set forth herein. • I 
 have read\, understand and agree to all of the terms and cond
 itions in the Auction Purchase & Sale Agreement and will sig
 n the Auction Purchase & Sale Agreement without making any c
 hanges to the pre-printed text. • I understand that I do n
 ot have an agency relationship with Bray Auctions LLC.\, auct
 ioneers\, firm\, broker and all parties employed by or associa
 ted with. • I accept full responsibility for due diligence
  on the real estate I am bidding on. • I understand that a
 ll real estate will be sold “As-Is\, Where-Is”. • I und
 erstand if I am the successful bidder the sale of this prope
 rty is not contingent upon obtaining a Certificate of Occupa
 ncy. • I understand that\, in the event I am the successful
  bidder of real estate\, that a 10% Buyers Premium will be ad
 ded to the high bid and payable at closing as the Total Purc
 hase Price. • I understand that\, in the event I am the suc
 cessful bidder of real estate\, and if I fail to close per th
 e Auction Purchase & Sale Agreement\, my earnest money deposi
 t(s) will be forfeited. • I understand these Terms and Con
 ditions will become part of the Auction Purchase and Sale Ag
 reement if I am the winning bidder. • In the case of a con
 flict between the Auction Purchase and Sales Agreement and T
 erms and Conditions of Auction Sale for Real Estate\, the Auc
 tion Purchase and Sale Agreement shall control. BY REGISTERI
 NG TO BID\, YOU HAVE ACCEPTED THESE TERMS AND CONDITIONS OF A
 UCTION SALE.  Additional Pictures and Drone Videography wil
 l be added shortly. Auction will be held online only. Downlo
 ad the Bray Auctions App for iOS and Android Devices or bid 
 online by clicking here. Prospective bidders are required to
  create an account and submit information for approval to bi
 d. Showings by appointment only. Terms On Real Estate: $5\,00
 0 Deposit / Earnest Money Is Due At The Signing of the Contr
 act\, Within 24 Hours of Auction Close. A 10% Buyer's Premium
  Will Be In Effect. For Any Questions\, Call Barrett Bray @ (
 405) 888-5366 or Whitey Mason @ (405) 630-8670.
URL:https://www.bidbray.com/auctions/detail/bw109234
SEQUENCE:1
END:VEVENT
END:VCALENDAR