BEGIN:VCALENDAR
VERSION:2.0
PRODID:-//ExpressionEngine Easy iCalendar plugin//NONSGML v2.0.1//EN
X-WR-TIMEZONE:America/Chicago
X-WR-CALNAME:Upcoming Auctions
BEGIN:VEVENT
UID:109630
DTSTAMP:20231015T130000
DTSTART:20231015T130000
DTEND:20231029T180000
SUMMARY:Large Classic Car Auction!
LOCATION:700 N Villa Ave\, Oklahoma City\, OK 73107\, US
DESCRIPTION:DATE & TIME Auction Closes: Sunday\, October 29th\, Beginning 
 @ 6:00pm LOCATION & DIRECTIONS Arrow Wrecker\, 700 N Villa\, O
 klahoma City\, OK SALEÂ INFORMATION Inspection of items will 
 be held until the close of the auction. Interested bidders s
 hould check in at Arrow Wrecker. Auction will be held online
  only. Download the Bray Auctions App for iOS and Android De
 vices or bid online by clickingÂ here. Bidders are required 
 to create an account and input credit card information for a
 uthorization. All Purchases Must Be Paid For Before They Can
  Be Picked Up. Cash\, Checks\, Credit / Debit Cards\, and Wire 
 Transfers Will Be Accepted. (3% Convenience Fee on All Credi
 t /Debit Card Purchases). Removal of Items will be held from
  Monday\, October 30th through Wednesday\, November 1st @ Arro
 w Wrecker Service. For Any Questions\, Call (405) 888-5366. Â
  
URL:https://www.bidbray.com/auctions/detail/bw109630
SEQUENCE:1
END:VEVENT
END:VCALENDAR