BEGIN:VCALENDAR
VERSION:2.0
PRODID:-//ExpressionEngine Easy iCalendar plugin//NONSGML v2.0.1//EN
X-WR-TIMEZONE:America/Chicago
X-WR-CALNAME:Upcoming Auctions
BEGIN:VEVENT
UID:110345
DTSTAMP:20231030T110000
DTSTART:20231030T110000
DTEND:20231114T130000
SUMMARY:Francis Tuttle Equipment\, Tools\, & Furniture Auction
LOCATION:12777 N Rockwell Ave\, Oklahoma City\, OK 73142\, US
DESCRIPTION:DATE & TIME Auction Closes: Tuesday\, November 14th\, Beginnin
 g @ 1:00pm LOCATION & DIRECTIONS Items are located at: Franc
 is Tuttle\, 12777 N Rockwell Ave\, 73142 SALE INFORMATION Insp
 ection of items will be held by appointment only on Monday\, 
 November 13th. Auction will be held online only. Download th
 e Bray Auctions App for iOS and Android Devices or bid onlin
 e by clicking here. Bidders are required to create an accoun
 t and input credit card information for authorization. All P
 urchases Must Be Paid For Before They Can Be Picked Up. Cash
 \, Checks\, Credit / Debit Cards\, and Wire Transfers Will Be A
 ccepted. (3% Convenience Fee on All Credit /Debit Card Purch
 ases). A 10% Buyer's Premium Will Be In Effect. Removal of I
 tems will be held by scheduled appointment on Wednesday\, Nov
 ember 15th through Friday\, November 17th. Winning Bidders wi
 ll be contacted to choose an appointment on Bray Auctions' s
 cheduling system.
URL:https://www.bidbray.com/auctions/detail/bw110345
SEQUENCE:1
END:VEVENT
END:VCALENDAR