BEGIN:VCALENDAR
VERSION:2.0
PRODID:-//ExpressionEngine Easy iCalendar plugin//NONSGML v2.0.1//EN
X-WR-TIMEZONE:America/Chicago
X-WR-CALNAME:Upcoming Auctions
BEGIN:VEVENT
UID:111232
DTSTAMP:20231114T130000
DTSTART:20231114T130000
DTEND:20231128T130000
SUMMARY:Large SW OKC Estate Auction
LOCATION:700 SW 112th St\, Oklahoma City\, OK 73170\, US
DESCRIPTION:DATE & TIME Auction Closes: Tuesday\, November 28th\, Beginnin
 g @ 1:00pm LOCATION & DIRECTIONS Items are located at: 700 S
 W 112th St\, Oklahoma City\, OK 73170 SALE INFORMATION Inspect
 ion of items will be held by appointment only on Monday\, Nov
 ember 27th. Auction will be held online only. Download the B
 ray Auctions App for iOS and Android Devices or bid online b
 y clicking here. Bidders are required to create an account 
 and input credit card information for authorization. All Pur
 chases Must Be Paid For Before They Can Be Picked Up. Cash\, 
 Checks\, Credit / Debit Cards\, and Wire Transfers Will Be Acc
 epted. (3% Convenience Fee on All Credit /Debit Card Purchas
 es). A 10% Buyer's Premium Will Be In Effect. Removal of Ite
 ms will be held by scheduled appointment on Wednesday\, Novem
 ber 29th and Thursday\, November 30th. Winning Bidders will b
 e contacted to choose an appointment on Bray Auctions' sched
 uling system.
URL:https://www.bidbray.com/auctions/detail/bw111232
SEQUENCE:1
END:VEVENT
END:VCALENDAR