BEGIN:VCALENDAR
VERSION:2.0
PRODID:-//ExpressionEngine Easy iCalendar plugin//NONSGML v2.0.1//EN
X-WR-TIMEZONE:America/Chicago
X-WR-CALNAME:Upcoming Auctions
BEGIN:VEVENT
UID:113557
DTSTAMP:20240108T000000
DTSTART:20240108T000000
DTEND:20240130T130000
SUMMARY:Large Firearm & Accessories Auction
LOCATION:3900 S Broadway\, 2W\, Edmond\, OK 73013\, US
DESCRIPTION:DATE & TIME Auction Closes: Tuesday\, January 30th\, Beginning
  @ 1:00pm LOCATION & DIRECTIONS Items are located at: 3900 S
  Broadway\, 2W\, Edmond\, OK 73013 SALE INFORMATION Inspection 
 of items will be held by special appointment only. Auction w
 ill be held online only. Download the Bray Auctions App for 
 iOS and Android Devices or bid online by clicking here. Bidd
 ers are required to create an account and input credit card 
 information for authorization. All Purchases Must Be Paid Fo
 r Before They Can Be Picked Up. Cash\, Checks\, Credit / Debit
  Cards\, and Wire Transfers Will Be Accepted. (3% Convenience
  Fee on All Credit /Debit Card Purchases). A 10% Buyer's Pre
 mium Will Be In Effect. Removal of Items will be held by sch
 eduled appointment on Wednesday\, January 31st through Friday
 \, February 2nd. Winning Bidders will be contacted to choose 
 an appointment on Bray Auctions' scheduling system. For Any 
 Questions\, Call (405) 888-5366. For Questions\, Contact Bray 
 Auctions @ 405.888.5366
URL:https://www.bidbray.com/auctions/detail/bw113557
SEQUENCE:1
END:VEVENT
END:VCALENDAR