BEGIN:VCALENDAR
VERSION:2.0
PRODID:-//ExpressionEngine Easy iCalendar plugin//NONSGML v2.0.1//EN
X-WR-TIMEZONE:America/Chicago
X-WR-CALNAME:Upcoming Auctions
BEGIN:VEVENT
UID:115554
DTSTAMP:20240216T130000
DTSTART:20240216T130000
DTEND:20240218T180000
SUMMARY:OK County District Attorney Seizure Auction
LOCATION:700 N Villa Ave\, Oklahoma City\, OK 73107\, US
DESCRIPTION:TERMS & CONDITIONS: All vehicles are sold AS-IS\; it is the 
 buyer's responsibility to inspect and verify information reg
 arding vehicles\; Arrow Wrecker and Bray Auctions have provid
 ed information to the best of their ability\, but no guarante
 es or warranties are expressed nor implied Highest Bidder Wi
 ns. The online bidding platform will close at a rate of 1 it
 em per minute. If a bid is made within the final 3 minutes o
 f any item\, the timer on THAT item will be reset to 3 minute
 s. Back up bidders and others will have the opportunity to b
 id again on that item. An item does not close or sell until 
 the final 3 minutes elapse with no further bids. All sales a
 re final. It is the bidder's responsibility to do due dilige
 nce on all items purchased. Any bidder that wins an item and
  does not pay will have their bidding credentials revoked an
 d will NEVER be permitted to bid again. All items must be pa
 id for before they are removed. ALL items must be paid for a
 nd removed on Monday\, February 19th through Wednesday\, Febru
 ary 21st from 8:00am to 6:00pm. Payments will be made at Arr
 ow Wrecker Service by cash or cashiers check ONLY. Valid ID
  is required. If you have questions about vehicles\, please c
 all Arrow Wrecker at 405-943-1800. If you have questions ab
 out bidding\, please call Bray Auctions at 405-888-5366. Goo
 d luck!
URL:https://www.bidbray.com/auctions/detail/bw115554
SEQUENCE:1
END:VEVENT
END:VCALENDAR