BEGIN:VCALENDAR
VERSION:2.0
PRODID:-//ExpressionEngine Easy iCalendar plugin//NONSGML v2.0.1//EN
X-WR-TIMEZONE:America/Chicago
X-WR-CALNAME:Upcoming Auctions
BEGIN:VEVENT
UID:115683
DTSTAMP:20240216T130000
DTSTART:20240216T130000
DTEND:20240224T184500
SUMMARY:JSL Black & White Gala
LOCATION:One Park Ave\, Oklahoma City\, OK 73102\, US
DESCRIPTION:More info coming soon.
URL:https://www.bidbray.com/auctions/detail/bw115683
SEQUENCE:1
END:VEVENT
END:VCALENDAR