BEGIN:VCALENDAR
VERSION:2.0
PRODID:-//ExpressionEngine Easy iCalendar plugin//NONSGML v2.0.1//EN
X-WR-TIMEZONE:America/Chicago
X-WR-CALNAME:Upcoming Auctions
BEGIN:VEVENT
UID:117268
DTSTAMP:20240315T130000
DTSTART:20240315T130000
DTEND:20240401T180000
SUMMARY:Classic & Collector Car Auction - Arrow
LOCATION:700 N Villa Ave\, Oklahoma City\, OK 73017\, US
DESCRIPTION:DATE & TIME Auction Closes: Monday\, April 1st\, Beginning @ 6
 :00pm LOCATION & DIRECTIONS Arrow Wrecker\, 700 N Villa\, Okla
 homa City\, OK SALE INFORMATION Inspection of items will be 
 held until the close of the auction. Interested bidders shou
 ld check in at Arrow Wrecker. Auction will be held online on
 ly. Download the Bray Auctions App for iOS and Android Devic
 es or bid online by clicking here. Bidders are required to 
 create an account and input credit card information for auth
 orization. All Purchases Must Be Paid For Before They Can Be
  Picked Up. Cash\, Checks\, Credit / Debit Cards\, and Wire Tra
 nsfers Will Be Accepted. (3% Convenience Fee on All Credit /
 Debit Card Purchases). Removal of Items will be held from Tu
 esday through Fridayfollowing the auction @ Arrow Wrecker Se
 rvice. For Any Questions\, Call (405) 888-5366.  
URL:https://www.bidbray.com/auctions/detail/bw117268
SEQUENCE:1
END:VEVENT
END:VCALENDAR