BEGIN:VCALENDAR
VERSION:2.0
PRODID:-//ExpressionEngine Easy iCalendar plugin//NONSGML v2.0.1//EN
X-WR-TIMEZONE:America/Chicago
X-WR-CALNAME:Upcoming Auctions
BEGIN:VEVENT
UID:119599
DTSTAMP:20240424T130000
DTSTART:20240424T130000
DTEND:20240501T130000
SUMMARY:Hurts Donuts Restaurant Auction
LOCATION:746 Asp Ave\, Norman\, OK 73069\, US
DESCRIPTION:DATE & TIME Auction Closes: Wednesday\, May 1st\, Beginning @ 
 1:00pm LOCATION & DIRECTIONS Items are located at: 746 Asp A
 ve\, Norman\, OK 73069 SALE INFORMATION Inspection of items wi
 ll be held by appointment only on Tuesday\, April 30th. Aucti
 on will be held online only. Download the Bray Auctions App 
 for iOS and Android Devices or bid online by clicking here.
  Bidders are required to create an account and input credit 
 card information for authorization. All Purchases Must Be Pa
 id For Before They Can Be Picked Up. Cash\, Checks\, Credit / 
 Debit Cards\, and Wire Transfers Will Be Accepted. (3% Conven
 ience Fee on All Credit /Debit Card Purchases). A 10% Buyer'
 s Premium Will Be In Effect. Removal of Items will be held b
 y scheduled appointment on Thursday\, May 2nd and Friday\, May
  3rd. Winning Bidders will be contacted to choose an appoint
 ment on Bray Auctions' scheduling system.
URL:https://www.bidbray.com/auctions/detail/bw119599
SEQUENCE:1
END:VEVENT
END:VCALENDAR