BEGIN:VCALENDAR
VERSION:2.0
PRODID:-//ExpressionEngine Easy iCalendar plugin//NONSGML v2.0.1//EN
X-WR-TIMEZONE:America/Chicago
X-WR-CALNAME:Upcoming Auctions
BEGIN:VEVENT
UID:120075
DTSTAMP:20240503T130000
DTSTART:20240503T130000
DTEND:20240505T180000
SUMMARY:Arrow Wrecker Impound Auction
LOCATION:700 N Villa\, Oklahoma City\, OK 73107\, US
DESCRIPTION:TERMS & CONDITIONS: All vehicles are sold AS-IS with no warr
 anties express nor implied\; it is the buyer's responsibility
  to inspect and verify information regarding vehicles\; Arrow
  Wrecker and Bray Auctions have provided information to the 
 best of their ability\, but buyers have the ultimate responsi
 bility of due diligence. Highest Bidder Wins. The online bid
 ding platform will close at a rate of 1 item per minute. If 
 a bid is made within the final 3 minutes of any item\, the ti
 mer on THAT item will be reset to 3 minutes. Back up bidders
  and others will have the opportunity to bid again on that i
 tem. An item does not close or sell until the final 3 minute
 s elapse with no further bids. All sales are final. It is th
 e bidder's responsibility to do due diligence on all items p
 urchased. Any bidder that wins an item and does not pay will
  have their bidding credentials revoked and will NEVER be pe
 rmitted to bid again. All items must be paid for before they
  are removed. ALL items must be paid for and removed on the 
 Monday through Wednesday following the auction from 8:00am t
 o 6:00pm. Any vehicles still not picked up during the allott
 ed time will be subject to a $5 per day storage fee. Payment
 s will be made at Arrow Wrecker Service by cash or credit ca
 rd. If you have questions about vehicles\, please call Arrow 
 Wrecker at 405-943-1800. If you have questions about bidding
 \, please call Bray Auctions at 405-888-5366. Good luck!
URL:https://www.bidbray.com/auctions/detail/bw120075
SEQUENCE:1
END:VEVENT
END:VCALENDAR