BEGIN:VCALENDAR
VERSION:2.0
PRODID:-//ExpressionEngine Easy iCalendar plugin//NONSGML v2.0.1//EN
X-WR-TIMEZONE:America/Chicago
X-WR-CALNAME:Upcoming Auctions
BEGIN:VEVENT
UID:121207
DTSTAMP:20240523T130000
DTSTART:20240523T130000
DTEND:20240606T130000
SUMMARY:Tools & Equipment Auction
LOCATION:3900 S Broadway Ave\, 2W\, Edmond\, OK 73013\, US
DESCRIPTION:DATE & TIME Auction Closes: Thursday\, June 6th\, Beginning @ 
 1:00pm LOCATION & DIRECTIONS Items are located at 3900 S Bro
 adway 2W Edmond\, Ok 73013  SALE INFORMATION Inspection of 
 items will be held by appointment only. Auction will be held
  online only. Download the Bray Auctions App for iOS and And
 roid Devices or bid online by clicking here. Bidders are re
 quired to create an account and input credit card informatio
 n for authorization. All Purchases Must Be Paid For Before T
 hey Can Be Picked Up.  Cash\, Checks\, Credit / Debit Cards\, 
 and Wire Transfers Will Be Accepted. (3% Convenience Fee on 
 All Credit /Debit Card Purchases). A 10% Buyer's Premium Wil
 l Be In Effect. Removal of Items will be held by appointment
  on Friday\, June 7th and Saturday\, June 8th. Winning Bidders
  will be required to schedule an appointment on Bray Auction
 s scheduling system. For Any Questions\, Call (405) 888-5366.
URL:https://www.bidbray.com/auctions/detail/bw121207
SEQUENCE:1
END:VEVENT
END:VCALENDAR