BEGIN:VCALENDAR
VERSION:2.0
PRODID:-//ExpressionEngine Easy iCalendar plugin//NONSGML v2.0.1//EN
X-WR-TIMEZONE:America/Chicago
X-WR-CALNAME:Upcoming Auctions
BEGIN:VEVENT
UID:122327
DTSTAMP:20240612T130000
DTSTART:20240612T130000
DTEND:20240630T130000
SUMMARY:Firearms\, Accessories\, and Ammo Auction
LOCATION:3900 S Broadway\, 2W\, Edmond\, OK 73013\, US
DESCRIPTION:DATE & TIME Auction Closes: Sunday\, June 30th\, Beginning @ 1
 :00pm LOCATION & DIRECTIONS Items are located at: 3900 S Bro
 adway\, 2W\, Edmond\, OK 73013 SALE INFORMATION Inspection of i
 tems will be held by special appointment only. Auction will 
 be held online only. Download the Bray Auctions App for iOS 
 and Android Devices or bid online by clicking here. Bidders 
 are required to create an account and input credit card info
 rmation for authorization. All Purchases Must Be Paid For Be
 fore They Can Be Picked Up. Cash\, Checks\, Credit / Debit Car
 ds\, and Wire Transfers Will Be Accepted. (3% Convenience Fee
  on All Credit /Debit Card Purchases). A 10% Buyer's Premium
  Will Be In Effect. Removal of Items will be held by schedul
 ed appointment on Monday\, July 1st through Wednesday\, July 3
 rd. Winning Bidders will be contacted to choose an appointme
 nt on Bray Auctions' scheduling system. For Questions\, Conta
 ct Bray Auctions @ 405.888.5366
URL:https://www.bidbray.com/auctions/detail/bw122327
SEQUENCE:1
END:VEVENT
END:VCALENDAR