BEGIN:VCALENDAR
VERSION:2.0
PRODID:-//ExpressionEngine Easy iCalendar plugin//NONSGML v2.0.1//EN
X-WR-TIMEZONE:America/Chicago
X-WR-CALNAME:Upcoming Auctions
BEGIN:VEVENT
UID:123534
DTSTAMP:20240704T130000
DTSTART:20240704T130000
DTEND:20240714T150000
SUMMARY:High End Office Furniture Auction
LOCATION:6 NE 63rd St #240\, Oklahoma City\, OK 73105\, US
DESCRIPTION:DATE & TIME Auction Closes: Sunday\, July 14th\, Beginning @ 3
 :00pm LOCATION & DIRECTIONS Items are located at Plangroup F
 inancial\, 6 NE 63rd St #240\, Oklahoma City\, OK Â SALEÂ INFOR
 MATION Inspection of items will be held by appointment only.
  Auction will be held online only. Download the Bray Auction
 s App for iOS and Android Devices or bid online by clickingÂ
  here. Bidders are required to create an account and input c
 redit card information for authorization. All Purchases Must
  Be Paid For Before They Can Be Picked Up.Â  Cash\, Checks\, C
 redit / Debit Cards\, and Wire Transfers Will Be Accepted. (3
 % Convenience Fee on All Credit /Debit Card Purchases). A 10
 % Buyer's Premium Will Be In Effect. Removal of Items will b
 e held by appointment on Monday\, JulyÂ 15th and Tuesday\, Jul
 yÂ 16th. Winning Bidders will be required to schedule an app
 ointment on Bray Auctions scheduling system. For Any Questio
 ns\, Call (405) 888-5366.
URL:https://www.bidbray.com/auctions/detail/bw123534
SEQUENCE:1
END:VEVENT
END:VCALENDAR