BEGIN:VCALENDAR
VERSION:2.0
PRODID:-//ExpressionEngine Easy iCalendar plugin//NONSGML v2.0.1//EN
X-WR-TIMEZONE:America/Chicago
X-WR-CALNAME:Upcoming Auctions
BEGIN:VEVENT
UID:125692
DTSTAMP:20240823T130000
DTSTART:20240823T130000
DTEND:20240829T194500
SUMMARY:Oklahoma Geological Foundation Rocks and Swing Fore STEM Sil
 ent Auction
LOCATION:{location}
DESCRIPTION:Our newest event\, Rocks & Swing Fore STEM\, started in 2019 a
 s a family-friendly fundraiser for the Foundation and the wo
 rk we do to support Earth science education.  About the eve
 nt The Oklahoma Geological Foundation will hold its 6th ann
 ual Rocks & Swing FORE STEM event on August 29th\, 2024\, at
  TopGolf Oklahoma City.  This year we will have 55 silent 
 auction items – beautiful fossils and minerals along with 
 custom artwork & jewelry.  The silent auction will be onlin
 e through Bray’s Auction site and can be accessed with the
  tab “Join the Silent Auction” below beginning sometime 
 around August 15th.  Come to the event and bid on the live 
 auction with 17 unique items. Join us in having fun hitting 
 golf balls\, socializing\, and feasting on a Mexican Buffet di
 nner prior to the auction.     Auctioneers Richard Branch
  and Tom Berry will entertain again this year as they auctio
 n off the Live items. This Live Auction will feature extraor
 dinary wine collections\, spectacular minerals & fossils and 
 more.   You won’t want to miss the fun and auction excite
 ment so get your tickets below. Even better\, consider BEING
  A SPONSOR for this special event! You can view our sponso
 rship information here.  This exciting night will be held a
 t – TopGolf Oklahoma City 6:00 – 9:00 PM  Thursday\, Aug
 ust 29th 2024. One hundred percent of the net proceeds from 
 this event supports the Foundation’s efforts funding STEM 
 & Geoscience projects for schools K – 12 and scholarships 
 for university level students\, focused in the State of Oklah
 oma.
URL:https://www.bidbray.com/auctions/detail/bw125692
SEQUENCE:1
END:VEVENT
END:VCALENDAR