BEGIN:VCALENDAR
VERSION:2.0
PRODID:-//ExpressionEngine Easy iCalendar plugin//NONSGML v2.0.1//EN
X-WR-TIMEZONE:America/Chicago
X-WR-CALNAME:Upcoming Auctions
BEGIN:VEVENT
UID:125694
DTSTAMP:20240813T120000
DTSTART:20240813T120000
DTEND:20240903T130000
SUMMARY:Francis Tuttle Technology Equipment\, Tools\, & MORE!
LOCATION:12777 N Rockwell Ave\, Oklahoma City\, OK 73142\, US
DESCRIPTION:DATE & TIME Auction Closes: Tuesday\, September 3rd\, Beginnin
 g @ 12:00pm LOCATION & DIRECTIONS Items are located at: Fran
 cis Tuttle\, 12777 N Rockwell Ave\, 73142 SALE INFORMATION Ins
 pection of items will be held by appointment only. Contact f
 or appointment. Bidders are required to create an account an
 d input credit card information for authorization. All Purch
 ases Must Be Paid For Before They Can Be Picked Up. Cash\, Ch
 ecks\, Credit / Debit Cards\, and Wire Transfers Will Be Accep
 ted. (3% Convenience Fee on All Credit /Debit Card Purchases
 ). A 10% Buyer's Premium Will Be In Effect. Removal of Items
  will be held by scheduled appointment on Wednesday\, Septemb
 er 4th through Friday\, September 6th. Winning Bidders will b
 e contacted to choose an appointment on Bray Auctions' sched
 uling system.
URL:https://www.bidbray.com/auctions/detail/bw125694
SEQUENCE:1
END:VEVENT
END:VCALENDAR