BEGIN:VCALENDAR
VERSION:2.0
PRODID:-//ExpressionEngine Easy iCalendar plugin//NONSGML v2.0.1//EN
X-WR-TIMEZONE:America/Chicago
X-WR-CALNAME:Upcoming Auctions
BEGIN:VEVENT
UID:126847
DTSTAMP:20240830T130000
DTSTART:20240830T130000
DTEND:20240903T180000
SUMMARY:TowMate Impound Auction
LOCATION:4316 NW 39th St\, Oklahoma City\, OK 73112\, US
DESCRIPTION:TERMS & CONDITIONS: Note: A 10% Buyer's Premium Will Be Char
 ged To The Credit Card Used to Register. All vehicles are so
 ld AS-IS with no warranties express nor implied\; it is the
  buyer's responsibility to inspect and verify information re
 garding vehicles\; TowMate and Bray Auctions have provided in
 formation to the best of their ability\, but buyers have the 
 ultimate responsibility of due diligence. Highest Bidder Win
 s. The online bidding platform will close at a rate of 1 ite
 m per minute. If a bid is made within the final 3 minutes of
  any item\, the timer on THAT item will be reset to 3 minutes
 . Back up bidders and others will have the opportunity to bi
 d again on that item. An item does not close or sell until t
 he final 3 minutes elapse with no further bids. All sales ar
 e final. It is the bidder's responsibility to do due diligen
 ce on all items purchased. Any bidder that wins an item and 
 does not pay will have their bidding credentials revoked and
  will NEVER be permitted to bid again. All items must be p
 aid for before they are removed. ALL items must be paid for 
 and removed on the Wednesday 9/4\, Thursday 9/5\, and Monday 
 9/9 from 10:00am to 3:00pm. Any vehicles still not picked u
 p during the allotted time will be subject to a $5 per day s
 torage fee. Payments will be made at TowMate by CASH ONLY. B
 uyers wishing to pay by Credit Card will be charged by Bray 
 Auctions. If you have questions about vehicles\, please visit
  TowMate at 4316 NW 39th St\, Oklahoma City\, OK 73112. If you
  have questions about bidding\, please call Bray Auctions at 
 405-888-5366. Good luck!
URL:https://www.bidbray.com/auctions/detail/bw126847
SEQUENCE:1
END:VEVENT
END:VCALENDAR