BEGIN:VCALENDAR
VERSION:2.0
PRODID:-//ExpressionEngine Easy iCalendar plugin//NONSGML v2.0.1//EN
X-WR-TIMEZONE:America/Chicago
X-WR-CALNAME:Upcoming Auctions
BEGIN:VEVENT
UID:129577
DTSTAMP:20241016T130000
DTSTART:20241016T130000
DTEND:20241109T130000
SUMMARY:Firearms\, Accessories\, and Ammo Auction
LOCATION:3900 S Broadway\, 2W\, Edmond\, OK 73013\, US
DESCRIPTION:DATE & TIME Auction Closes: Saturday\, November 9th\, Beginnin
 g @ 1:00pm LOCATION & DIRECTIONS Items are located at: 3900 
 S Broadway\, 2W\, Edmond\, OK 73013 SALE INFORMATION Inspection
  of items will be held by special appointment only. Bidders 
 are required to create an account and input credit card info
 rmation for authorization. All Purchases Must Be Paid For Be
 fore They Can Be Picked Up. Cash\, Checks\, Credit / Debit Car
 ds\, and Wire Transfers Will Be Accepted. (3% Convenience Fee
  on All Credit /Debit Card Purchases). A 10% Buyer's Premium
  Will Be In Effect. Removal of Items will be held by schedul
 ed appointment on Monday\, November 11th through Wednesday\, N
 ovember 13th. Winning Bidders will be contacted to choose an
  appointment on Bray Auctions' scheduling system. For Questi
 ons\, Contact Bray Auctions @ 405.888.5366
URL:https://www.bidbray.com/auctions/detail/bw129577
SEQUENCE:1
END:VEVENT
END:VCALENDAR