BEGIN:VCALENDAR
VERSION:2.0
PRODID:-//ExpressionEngine Easy iCalendar plugin//NONSGML v2.0.1//EN
X-WR-TIMEZONE:America/Chicago
X-WR-CALNAME:Upcoming Auctions
BEGIN:VEVENT
UID:129817
DTSTAMP:20241021T120000
DTSTART:20241021T120000
DTEND:20241024T193000
SUMMARY:State Capitol Publishing Museum Silent Auction
LOCATION:{location}
DESCRIPTION:It’s BACK! After pausing our annual fundraising event in 2
 023 due to window restoration and flooring projects\, we’re
  excited to announce our “2024 Night for the Museum”. Bi
 d on a wonderful variety of amazing items and opportunities 
 in this year's silent auction! Credit Cards will be automati
 cally charged at the end of the evening.
URL:https://www.bidbray.com/auctions/detail/bw129817
SEQUENCE:1
END:VEVENT
END:VCALENDAR