BEGIN:VCALENDAR
VERSION:2.0
PRODID:-//ExpressionEngine Easy iCalendar plugin//NONSGML v2.0.1//EN
X-WR-TIMEZONE:America/Chicago
X-WR-CALNAME:Upcoming Auctions
BEGIN:VEVENT
UID:130289
DTSTAMP:20241028T130000
DTSTART:20241028T130000
DTEND:20241116T130000
SUMMARY:Harper Estate Auction - Tools\, Equipment\, Antiques\, Art & MO
 RE!
LOCATION:501 Willow Dr\, Choctaw\, OK 73020\, US
DESCRIPTION:DATE & TIME Auction Closes: Saturday\, November 16th\, Beginni
 ng @ 1:00pm LOCATION & DIRECTIONS Items are located at 501 
 Willow Dr\, Choctaw OK  SALE INFORMATION Inspection of item
 s will be held by appointment only. Bidders are required to 
 create an account and input credit card information for auth
 orization. All Purchases Must Be Paid For Before They Can Be
  Picked Up.  Cash\, Checks\, Credit / Debit Cards\, and Wire T
 ransfers Will Be Accepted. (3% Convenience Fee on All Credit
  /Debit Card Purchases). A 10% Buyer's Premium Will Be In Ef
 fect. Removal of Items will be held by appointment on Monday
 \, November 20th through Wednesday\, November 22nd. Winning Bi
 dders will be required to schedule an appointment on Bray Au
 ctions scheduling system. For Any Questions\, Call (405) 888-
 5366.
URL:https://www.bidbray.com/auctions/detail/bw130289
SEQUENCE:1
END:VEVENT
END:VCALENDAR