BEGIN:VCALENDAR
VERSION:2.0
PRODID:-//ExpressionEngine Easy iCalendar plugin//NONSGML v2.0.1//EN
X-WR-TIMEZONE:America/Chicago
X-WR-CALNAME:Upcoming Auctions
BEGIN:VEVENT
UID:130362
DTSTAMP:20241030T130000
DTSTART:20241030T130000
DTEND:20241120T130000
SUMMARY:Small Town Solar Electrical Contractors Liquidation
LOCATION:15200 N May Ave\, Edmond\, OK 73013\, US
DESCRIPTION:DATE & TIME Auction Closes: Wednesday\, Nov 20th\, Beginning @
  1:00pm LOCATION & DIRECTIONS Items are located at: Extra Sp
 ace Storage\, 15200 N May Ave\, Edmond\, OK 73013 SALE INFORMAT
 ION Inspection of items will be held by appointment only. Co
 ntact us if you'd like to view auction items. Auction will b
 e held online only. Download the Bray Auctions app or visit 
 BidBray.com. Bidders are required to create an account and i
 nput credit card information for authorization. All Purchase
 s Must Be Paid For Before They Can Be Picked Up. Cash\, Check
 s\, Credit / Debit Cards\, and Wire Transfers Will Be Accepted
 . (3% Service Fee on All Credit /Debit Card Purchases). A 10
 % Buyer's Premium Will Be In Effect. Removal of Items will b
 e held by scheduled appointment on Thursday\, Nov 21st and Fr
 iday\, Nov 22nd. Winning Bidders will be contacted to choose 
 an appointment on Bray Auctions' scheduling system. For any 
 questions\, please call us at 405-888-5366.
URL:https://www.bidbray.com/auctions/detail/bw130362
SEQUENCE:1
END:VEVENT
END:VCALENDAR