BEGIN:VCALENDAR
VERSION:2.0
PRODID:-//ExpressionEngine Easy iCalendar plugin//NONSGML v2.0.1//EN
X-WR-TIMEZONE:America/Chicago
X-WR-CALNAME:Upcoming Auctions
BEGIN:VEVENT
UID:133193
DTSTAMP:20241229T150000
DTSTART:20241229T150000
DTEND:20250112T140000
SUMMARY:Restaurant Equipment & Furniture Auction
LOCATION:3900 S Broadway\, 2W\, Edmond\, OK 73013\, US
DESCRIPTION:DATE & TIME Auction Closes: Sunday\, January 12th\, Beginning 
 @ 2:00pm LOCATION & DIRECTIONS Items are located at: Bray Au
 ctions\, 3900 S Broadway\, 2W\, Edmond\, OK 73013 SALE INFORMATI
 ON Inspection of items will be held by special appointment o
 nly. Bidders are required to create an account and input cre
 dit card information for authorization. All Purchases Must B
 e Paid For Before They Can Be Picked Up. Cash\, Checks\, and C
 redit / Debit Cards Will Be Accepted. (3% Convenience Fee on
  All Credit /Debit Card Purchases). A 10% Buyer's Premium Wi
 ll Be In Effect. All Sales Are Final. Removal of Items will 
 be held by scheduled appointment on Monday\, January 13th thr
 ough Wednesday\, January 15th. Winning Bidders will be contac
 ted to choose an appointment on Bray Auctions' scheduling sy
 stem. For Questions\, Contact Bray Auctions @ 405.888.5366
URL:https://www.bidbray.com/auctions/detail/bw133193
SEQUENCE:1
END:VEVENT
END:VCALENDAR