BEGIN:VCALENDAR
VERSION:2.0
PRODID:-//ExpressionEngine Easy iCalendar plugin//NONSGML v2.0.1//EN
X-WR-TIMEZONE:America/Chicago
X-WR-CALNAME:Upcoming Auctions
BEGIN:VEVENT
UID:133984
DTSTAMP:20250116T120000
DTSTART:20250116T120000
DTEND:20250120T180000
SUMMARY:CarCab Wrecker Impound Auction
LOCATION:4105 S Eastern Ave\, Oklahoma City\, OK 73129\, US
DESCRIPTION:ATTN: A $100 Deposit is required to bid. A hold will be plac
 ed on funds from the card users register with. All vehicles 
 are sold AS-IS\; it is the buyer's responsibility to inspect 
 and verify information regarding vehicles\; Car Cab Wrecker a
 nd Bray Auctions have provided information to the best of th
 eir ability\, but no guarantees or warranties are expressed n
 or implied. All Sales are Final. Highest Bidder Wins. The on
 line bidding platform will close at a rate of 1 item per min
 ute. If a bid is made within the final 3 minutes of any item
 \, the timer on THAT item will be reset to 3 minutes. Back up
  bidders and others will have the opportunity to bid again o
 n that item. An item does not close or sell until the final 
 3 minutes elapse with no further bids. All sales are final. 
 It is the bidder's responsibility to do due diligence on all
  items purchased. Any bidder that wins an item and does not 
 pay will have their bidding credentials revoked and will NEV
 ER be permitted to bid again. Car Cab Wrecker Service will n
 ot sell a vehicle to the previous registered owner whether k
 nown or not\, at the time of bidding. All items must be paid 
 for before they are removed. ALL items must be paid for and 
 removed on Tuesday through Friday following the auction clos
 e\, from 10:00am to 5:00pm. Winning bidders have until Friday
  at 5:00 pm to pick up their vehicle(s) or their bid is forf
 eited\, and all items will be sold at the next auction. All V
 ehicles will have a Bill of Sale upon request. A title proce
 ssing fee of $50 will be added to the sale price for all cus
 tomers wanting to obtain a State of Oklahoma Title for roadw
 ay usage. Parts or Junk vehicles will not be charged any tit
 ling fee and will be listed inÂ NMVTISÂ database as parts on
 ly no title. (Bill of Sale only) Payments will be made at Ca
 r Cab Wrecker Service byÂ cash or cardÂ unless pre-approved 
 for check. All card transactions will have a 5% processing f
 ee added to the winning bids. Car Cab Wrecker follows Title 
 42 regulations for all vehicles. Until Title 42 paperwork is
  approved\, you are not the registered owner. If you choose t
 o drive a vehicle purchased from Car Cab Wrecker\, you are do
 ing so at your own risk. Car Cab Wrecker does not offer temp
 orary tags for any vehicles sold at auction. If you choose t
 o spend money making repairs of any kind before the paperwor
 k is approved\, you will be doing so at your own risk. There 
 is no guarantee of timeline on getting paperwork. Due to ins
 urance regulations\, all vehicles will leave the lot driven\,Â
  trailered\, or towed by a wrecker.Â No exceptions. No repair
 s to any vehicle shall be made while on Car Cab Wreckerâ€™s 
 property\; front or back. If you have questions about vehicle
 s\, please call Car Cab Wrecker at 405-670-6114. If you have 
 questions about bidding\, please call Bray Auctions at 405-88
 8-5366. Good luck! ATTN: A $100 Deposit is required to bid. 
 A hold will be placed on funds from the card users register 
 with. All vehicles are sold AS-IS\; it is the buyer's respons
 ibility to inspect and verify information regarding vehicles
 \; Car Cab Wrecker and Bray Auctions have provided informatio
 n to the best of their ability\, but no guarantees or warrant
 ies are expressed nor implied. Highest Bidder Wins. The onli
 ne bidding platform will close at a rate of 1 item per minut
 e. If a bid is made within the final 3 minutes of any item\, 
 the timer on THAT item will be reset to 3 minutes. Back up b
 idders and others will have the opportunity to bid again on 
 that item. An item does not close or sell until the final 3 
 minutes elapse with no further bids. All sales are final. It
  is the bidder's responsibility to do due diligence on all i
 tems purchased. Any bidder that wins an item and does not pa
 y will have their bidding credentials revoked and will NEVER
  be permitted to bid again. Car Cab Wrecker Service will not
  sell a vehicle to the previous registered owner whether kno
 wn or not\, at the time of bidding. All items must be paid fo
 r before they are removed. ALL items must be paid for and re
 moved on Tuesday through Friday following the auction close\,
  from 10:00am to 5:00pm. Winning bidders have until Friday a
 t 5:00 pm to pick up their vehicle(s) or their bid is forfei
 ted\, and all items will be sold at the next auction. All Veh
 icles will have a Bill of Sale upon request. A title process
 ing fee of $50 will be added to the sale price for all custo
 mers wanting to obtain a State of Oklahoma Title for roadway
  usage. Parts or Junk vehicles will not be charged any titli
 ng fee and will be listed inÂ NMVTISÂ database as parts only
  no title. (Bill of Sale only) Payments will be made at Car 
 Cab Wrecker Service byÂ cash or cardÂ unless pre-approved fo
 r check. All card transactions will have a 5% processing fee
  added to the winning bids. Car Cab Wrecker follows Title 42
  regulations for all vehicles. Until Title 42 paperwork is a
 pproved\, you are not the registered owner. If you choose to 
 drive a vehicle purchased from Car Cab Wrecker\, you are doin
 g so at your own risk. Car Cab Wrecker does not offer tempor
 ary tags for any vehicles sold at auction. If you choose to 
 spend money making repairs of any kind before the paperwork 
 is approved\, you will be doing so at your own risk. There is
  no guarantee of timeline on getting paperwork. Due to insur
 ance regulations\, all vehicles will leave the lot driven\,Â t
 railered\, or towed by a wrecker.Â No exceptions. No repairs 
 to any vehicle shall be made while on Car Cab Wreckerâ€™s pr
 operty\; front or back. If you have questions about vehicles\,
  please call Car Cab Wrecker at 405-670-6114. If you have qu
 estions about bidding\, please call Bray Auctions at 405-888-
 5366. Good luck!
URL:https://www.bidbray.com/auctions/detail/bw133984
SEQUENCE:1
END:VEVENT
END:VCALENDAR