BEGIN:VCALENDAR
VERSION:2.0
PRODID:-//ExpressionEngine Easy iCalendar plugin//NONSGML v2.0.1//EN
X-WR-TIMEZONE:America/Chicago
X-WR-CALNAME:Upcoming Auctions
BEGIN:VEVENT
UID:134409
DTSTAMP:20250123T120000
DTSTART:20250123T120000
DTEND:20250213T170000
SUMMARY:Firearms\, Accessories\, Ammo\, & Coins
LOCATION:3900 S Broadway\, 2W\, Edmond\, OK 73013\, US
DESCRIPTION:DATE & TIME Auction Closes: Thursday\, February 13th\, Beginni
 ng @ 5:00pm LOCATION & DIRECTIONS Items are located at: 3900
  S Broadway\, 2W\, Edmond\, OK 73013 SALE INFORMATION Inspectio
 n of items will be held by special appointment only. Bidders
  are required to create an account and input credit card inf
 ormation for authorization. All Purchases Must Be Paid For B
 efore They Can Be Picked Up. Cash\, Checks\, Credit / Debit Ca
 rds\, and Wire Transfers Will Be Accepted. (3% Convenience Fe
 e on All Credit /Debit Card Purchases). A 10% Buyer's Premiu
 m Will Be In Effect. All Sales are Final. Removal of Items w
 ill be held by scheduled appointment on Friday\, February 14t
 h and Saturday\, February 15th. Winning Bidders will be conta
 cted to choose an appointment on Bray Auctions' scheduling s
 ystem. For Questions\, Contact Bray Auctions @ 405.888.5366
URL:https://www.bidbray.com/auctions/detail/bw134409
SEQUENCE:1
END:VEVENT
END:VCALENDAR