BEGIN:VCALENDAR
VERSION:2.0
PRODID:-//ExpressionEngine Easy iCalendar plugin//NONSGML v2.0.1//EN
X-WR-TIMEZONE:America/Chicago
X-WR-CALNAME:Upcoming Auctions
BEGIN:VEVENT
UID:135903
DTSTAMP:20250220T100000
DTSTART:20250220T100000
DTEND:20250301T184500
SUMMARY:JSL MWC Ways & Means Gala: 60th Diamond Anniversary
LOCATION:One Park Ave\, Oklahoma City\, OK 73102\, US
DESCRIPTION:Join us for an amazing evening celebrating the wonderful wor
 k of the Junior Service League of MWC.
URL:https://www.bidbray.com/auctions/detail/bw135903
SEQUENCE:1
END:VEVENT
END:VCALENDAR