BEGIN:VCALENDAR
VERSION:2.0
PRODID:-//ExpressionEngine Easy iCalendar plugin//NONSGML v2.0.1//EN
X-WR-TIMEZONE:America/Chicago
X-WR-CALNAME:Upcoming Auctions
BEGIN:VEVENT
UID:137816
DTSTAMP:20250326T120000
DTSTART:20250326T120000
DTEND:20250424T130000
SUMMARY:Large S OKC Estate Auction
LOCATION:716 SW 112th ST\, Oklahoma City\, OK 73170\, US
DESCRIPTION:DATE & TIME Auction Closes: Thursday\, April 24th\, Beginning 
 @ 1:00pm LOCATION & DIRECTIONS Items are located at: 708 SW 
 112th St.\, Oklahoma City\, OK 73170 SALE INFORMATION Inspecti
 on of items will be held by appointment only. Auction will b
 e held online only. Download the Bray Auctions app or visit 
 BidBray.com. Bidders are required to create an account and i
 nput credit card information for authorization. All Purchase
 s Must Be Paid For Before They Can Be Picked Up. Cash\, Check
 s\, Credit / Debit Cards\, and Wire Transfers Will Be Accepted
 . (3% Service Fee on All Credit /Debit Card Purchases). A 10
 % Buyer's Premium Will Be In Effect. A $100 Deposit / Author
 ization is required to register. Removal of Items will be he
 ld by scheduled appointment on Friday\, April 25th and Saturd
 ay\, April 26th. Winning Bidders will be contacted to choose 
 an appointment on Bray Auctions' scheduling system. All sale
 s are final.
URL:https://www.bidbray.com/auctions/detail/bw137816
SEQUENCE:1
END:VEVENT
END:VCALENDAR