BEGIN:VCALENDAR
VERSION:2.0
PRODID:-//ExpressionEngine Easy iCalendar plugin//NONSGML v2.0.1//EN
X-WR-TIMEZONE:America/Chicago
X-WR-CALNAME:Upcoming Auctions
BEGIN:VEVENT
UID:139323
DTSTAMP:20250421T120000
DTSTART:20250421T120000
DTEND:20250504T140000
SUMMARY:Francis Tuttle Technology Machinery\, Equipment\, & Tools Auct
 ion
LOCATION:12777 N Rockwell Ave\, Oklahoma City\, OK 73142\, US
DESCRIPTION:DATE & TIME Auction Closes: Sunday\, May 4th\, Beginning @ 2:0
 0pm LOCATION & DIRECTIONS Items are located at: Francis Tutt
 le\, 12777 N Rockwell Ave\, Oklahoma City\, OK 73142 SALE INFOR
 MATION Inspection of items will be held by appointment only.
  Contact for appointment. Bidders are required to create an 
 account and input credit card information for $100 Deposit /
  Authorization. All Purchases Must Be Paid For Before They C
 an Be Picked Up. Cash\, Checks\, Credit / Debit Cards\, and Wir
 e Transfers Will Be Accepted. (3% Convenience Fee on All Cre
 dit /Debit Card Purchases). A 10% Buyer's Premium Will Be In
  Effect. All Sales are Final. Non Paying Bidders will have t
 heir Credit Card Charged and will be blocked from future auc
 tions. Removal of Items will be held by scheduled appointmen
 t on Monday\, May 5th and Tuesday\, May 6th. Winning Bidders w
 ill be contacted to choose an appointment on Bray Auctions' 
 scheduling system.
URL:https://www.bidbray.com/auctions/detail/bw139323
SEQUENCE:1
END:VEVENT
END:VCALENDAR