BEGIN:VCALENDAR
VERSION:2.0
PRODID:-//ExpressionEngine Easy iCalendar plugin//NONSGML v2.0.1//EN
X-WR-TIMEZONE:America/Chicago
X-WR-CALNAME:Upcoming Auctions
BEGIN:VEVENT
UID:140136
DTSTAMP:20250505T100000
DTSTART:20250505T100000
DTEND:20250518T140000
SUMMARY:Big Boy Toys! Forklifts\, Equipment\, Motorcycles\, Golf Carts\,
  Trailers\, & MORE!
LOCATION:251 S 41st St\, Muskogee\, OK 74403\, US
DESCRIPTION:DATE & TIME Auction Closes: Sunday\, May 18th\, Beginning @ 2:
 00pm LOCATION & DIRECTIONS Items are located at: 251 S 41st 
 St.\, Muskogee\, OK 74403 SALE INFORMATION Inspection of items
  will be held by appointment only. Auction will be held onli
 ne only. Bidders are required to create an account and inpu
 t credit card information for $100 Deposit / Authorization. 
 All Purchases Must Be Paid For Before They Can Be Picked Up.
  Cash\, Checks\, Credit / Debit Cards\, and Wire Transfers Will
  Be Accepted. (3% Service Fee on All Credit /Debit Card Purc
 hases). A 10% Buyer's Premium Will Be In Effect. All Items a
 re Sold As-Is Where is and All Sales are Final. Non Paying B
 idders will have their credit cards charged and will be bloc
 ked from all future auctions. Removal of Items will be held 
 by scheduled appointment on Monday\, May 19th. Winning Bidder
 s will be contacted to choose an appointment on Bray Auction
 s' scheduling system.
URL:https://www.bidbray.com/auctions/detail/bw140136
SEQUENCE:1
END:VEVENT
END:VCALENDAR