BEGIN:VCALENDAR
VERSION:2.0
PRODID:-//ExpressionEngine Easy iCalendar plugin//NONSGML v2.0.1//EN
X-WR-TIMEZONE:America/Chicago
X-WR-CALNAME:Upcoming Auctions
BEGIN:VEVENT
UID:140858
DTSTAMP:20250519T100000
DTSTART:20250519T100000
DTEND:20250522T180000
SUMMARY:AAAA Wrecker Impound Auction
LOCATION:3307 NE 10th St\, Oklahoma City\, OK 73117\, US
DESCRIPTION:TERMS & CONDITIONS: Â  All vehicles are sold AS-IS\; it is th
 e buyer's responsibility to inspect and verify information r
 egarding vehicles\;Â AAAA WreckerÂ and Bray Auctions have pro
 vided information to the best of their ability\, but no guara
 ntees or warranties are expressed nor implied. Highest Bidde
 r Wins. The online bidding platform will close at a rate of 
 1 item per minute. If a bid is made within the final 3 minut
 es of any item\, the timer on THAT item will be reset to 3 mi
 nutes. Back up bidders and others will have the opportunity 
 to bid again on that item. An item does not close or sell un
 til the final 3 minutes elapse with no further bids. All sal
 es are final - No refunds. It is the bidder's responsibility
  to due diligence on all items purchased. Any bidder that wi
 ns an item and does not pay will have their bidding credenti
 als revoked and will NEVER be permitted to bid again.Â AAAAÂ
  Wrecker Service will not sell a vehicle to the previous reg
 istered owner whether known or not\, at the time of bidding. 
 All items must be paid for before they are removed. ALL item
 s must be paid for and removed on Monday through Wednesday f
 ollowing the auction close\, from 8:00am to 4:00pm. No pick u
 ps after 4:00pm or on weekends. Payments will be made atÂ AA
 AAÂ Wrecker Service byÂ cash or debit card only.Â No checks 
 or credit cards. AAAAÂ Wrecker follows title 42 regulations 
 for all vehicles.Â AAAAÂ Wrecker is at the mercy of the Okla
 homa Tax Commission. Until Title 42 paperwork is approved\, y
 ou are not the registered owner. If you choose to drive a ve
 hicle purchased fromÂ AAAAÂ Wrecker\, you are doing so atÂ yo
 ur own risk.Â AAAAÂ WreckerÂ does notÂ offer temporary tags.
  If you choose to spend money making repairs of any kind bef
 ore the paperwork is approved\, you are doing so at your own 
 risk. All paperwork will be done in the bidders nameÂ only. 
 No exceptions. There is no expected timeline on getting pape
 rwork andÂ AAAAÂ Wrecker makes no guarantees. AAAAÂ Wrecker 
 does not guarantee any lien releases for vehicles purchased 
 from auction. Due to insurance regulations\, all vehicles wil
 l leave the lot driven\,Â trailered\, or towed by a wrecker.Â 
 No exceptions. No repairs to any vehicle shall be made while
  onÂ AAAAÂ Wrecker lot\; front or back. No vehicles will be m
 oved byÂ AAAA WreckerÂ staff. If you need it moved\, you will
  be required to pay a hook-up fee. NOTICE - Any vehicles not
  picked up and paid for by the Friday following the auction 
 will be subject to a $25 per day storage fee. If you have qu
 estions about vehicles\, please callÂ AAAAÂ Wrecker at 405-42
 4-4869. If you have questions about bidding\, please call Bra
 y Auctions at 405-888-5366. Good luck!
URL:https://www.bidbray.com/auctions/detail/bw140858
SEQUENCE:1
END:VEVENT
END:VCALENDAR