BEGIN:VCALENDAR
VERSION:2.0
PRODID:-//ExpressionEngine Easy iCalendar plugin//NONSGML v2.0.1//EN
X-WR-TIMEZONE:America/Chicago
X-WR-CALNAME:Upcoming Auctions
BEGIN:VEVENT
UID:142833
DTSTAMP:20250625T100000
DTSTART:20250625T100000
DTEND:20250709T130000
SUMMARY:Francis Tuttle Technology Machinery\, Tools\, & Furniture Auct
 ion
LOCATION:12777 N Rockwell Ave\, Oklahoma City\, OK 73142\, US
DESCRIPTION:DATE & TIME Auction Closes: Wednesday\, July 9th\, Beginning @
  1:00pm LOCATION & DIRECTIONS Items are located at: Francis 
 Tuttle\, 12777 N Rockwell Ave\, Oklahoma City\, OK 73142 SALE I
 NFORMATION Inspection of items will be held by appointment o
 nly. Contact for appointment. Bidders are required to create
  an account and input credit card information for $100 Depos
 it / Authorization. All Purchases Must Be Paid For Before Th
 ey Can Be Picked Up. Cash\, Checks\, Credit / Debit Cards\, and
  Wire Transfers Will Be Accepted. (3% Convenience Fee on All
  Credit /Debit Card Purchases). A 10% Buyer's Premium Will B
 e In Effect. All Sales are Final. Non Paying Bidders will ha
 ve their Credit Card Charged and will be blocked from future
  auctions. Removal of Items will be held by scheduled appoin
 tment on Thursday\, July 10th and Friday\, July 11th. Winning 
 Bidders will be contacted to choose an appointment on Bray A
 uctions' scheduling system.
URL:https://www.bidbray.com/auctions/detail/bw142833
SEQUENCE:1
END:VEVENT
END:VCALENDAR