BEGIN:VCALENDAR
VERSION:2.0
PRODID:-//ExpressionEngine Easy iCalendar plugin//NONSGML v2.0.1//EN
X-WR-TIMEZONE:America/Chicago
X-WR-CALNAME:Upcoming Auctions
BEGIN:VEVENT
UID:143251
DTSTAMP:20250630T170000
DTSTART:20250630T170000
DTEND:20250720T140000
SUMMARY:Wrecker Trucks\, Vehicles\, Trailers\, Motorcycles & MORE! Larg
 e Liquidation Auction
LOCATION:{location}
DESCRIPTION:DATE & TIME Auction Closes: Sunday\, July 20th\, Beginning @ 2
 :00pm LOCATION & DIRECTIONS MOST Items are located at: 251 S
  41st St.\, Muskogee\, OK 74403 SALE INFORMATION Inspection of
  items will be held by appointment only. Auction will be hel
 d online only. Bidders are required to create an account an
 d input credit card information for $100 Deposit / Authoriza
 tion. All Purchases Must Be Paid For Before They Can Be Pick
 ed Up. Cash\, Checks\, Credit / Debit Cards\, and Wire Transfer
 s Will Be Accepted. (3% Service Fee on All Credit /Debit Car
 d Purchases). A 10% Buyer's Premium Will Be In Effect. All I
 tems are Sold As-Is Where is and All Sales are Final. Non Pa
 ying Bidders will have their credit cards charged and will b
 e blocked from all future auctions. Removal of Items will be
  held by scheduled appointment on Monday\, July 21st and Tues
 day\, July 22nd. Winning Bidders will be contacted to choose 
 an appointment on Bray Auctions' scheduling system.
URL:https://www.bidbray.com/auctions/detail/bw143251
SEQUENCE:1
END:VEVENT
END:VCALENDAR