BEGIN:VCALENDAR
VERSION:2.0
PRODID:-//ExpressionEngine Easy iCalendar plugin//NONSGML v2.0.1//EN
X-WR-TIMEZONE:America/Chicago
X-WR-CALNAME:Upcoming Auctions
BEGIN:VEVENT
UID:143585
DTSTAMP:20250707T130000
DTSTART:20250707T130000
DTEND:20250727T150000
SUMMARY:Estate of NFL Hall of Fame Bobby Layne - High End Antique Fu
 rniture\, Decor & Collectibles
LOCATION:12608 Arrowhead Terr\, Oklahoma City\, OK 73120\, US
DESCRIPTION:DATE & TIME Auction Closes: Sunday\, July 27th\, Beginning @ 3
 :00pm LOCATION & DIRECTIONS Items are located at: 12608 Arro
 whead Terr\, Oklahoma City\, OK 73120 SALE INFORMATION Inspect
 ion of items will be held by appointment only. Auction will 
 be held online only. Download the Bray Auctions app or visit
  BidBray.com. Bidders are required to create an account and 
 input credit card information for authorization. All Purchas
 es Must Be Paid For Before They Can Be Picked Up. Cash\, Chec
 ks\, Credit / Debit Cards\, and Wire Transfers Will Be Accepte
 d. (3% Service Fee on All Credit /Debit Card Purchases). A 1
 0% Buyer's Premium Will Be In Effect. A $100 Deposit / Autho
 rization is required to register. Any Non Paying Bidders Wil
 l Have Their Cards Charged Up to the Full Purchase Amount an
 d Be Permanently Banned From Bidding. Removal of Items will 
 be held by scheduled appointment on Monday\, July 28th and Tu
 esday\, July 29th. Winning Bidders will be contacted to choos
 e an appointment on Bray Auctions' scheduling system. All sa
 les are final.
URL:https://www.bidbray.com/auctions/detail/bw143585
SEQUENCE:1
END:VEVENT
END:VCALENDAR