BEGIN:VCALENDAR
VERSION:2.0
PRODID:-//ExpressionEngine Easy iCalendar plugin//NONSGML v2.0.1//EN
X-WR-TIMEZONE:America/Chicago
X-WR-CALNAME:Upcoming Auctions
BEGIN:VEVENT
UID:144888
DTSTAMP:20250721T120000
DTSTART:20250721T120000
DTEND:20250803T150000
SUMMARY:Boat Dealer Liquidation - Project Boats & Watercraft - Edmon
 d\, OK
LOCATION:5760 Industrial Blvd\, Edmond\, OK 73034\, US
DESCRIPTION:DATE & TIME Auction Closes: Sunday\, August 3rd\, Beginning @ 
 3:00pm LOCATION & DIRECTIONS Items are located at: 5760 Indu
 strial Blvd\, Edmond\, OK 73034 SALE INFORMATION Inspection of
  items will be held by appointment and on Saturday\, August 2
 nd from 12:00pm to 2:00pm. Auction will be held online only.
  Bidders are required to create an account and input credit
  card information for $100 Deposit / Authorization. All Purc
 hases Must Be Paid For Before They Can Be Picked Up. Cash\, C
 hecks\, Credit / Debit Cards\, and Wire Transfers Will Be Acce
 pted. (3% Service Fee on All Credit /Debit Card Purchases). 
 A 10% Buyer's Premium Will Be In Effect. All Items are Sold 
 As-Is Where is and All Sales are Final. Attn: All boats are 
 in various states of disrepair. All descriptions and represe
 ntations have been made in the best effort of seller and Bra
 y Auctions\, but no warranties nor guarantees expressed nor i
 mplied. It is the bidder's responsibility to conduct any and
  all due diligence prior to bidding.  Non Paying Bidders wi
 ll have their credit cards charged and will be blocked from 
 all future auctions. Removal of Items will be held by schedu
 led appointment on Monday\, August 4th and Tuesday\, August 5t
 h. Winning Bidders will be contacted to choose an appointmen
 t on Bray Auctions' scheduling system.
URL:https://www.bidbray.com/auctions/detail/bw144888
SEQUENCE:1
END:VEVENT
END:VCALENDAR