BEGIN:VCALENDAR
VERSION:2.0
PRODID:-//ExpressionEngine Easy iCalendar plugin//NONSGML v2.0.1//EN
X-WR-TIMEZONE:America/Chicago
X-WR-CALNAME:Upcoming Auctions
BEGIN:VEVENT
UID:145137
DTSTAMP:20250725T090000
DTSTART:20250725T090000
DTEND:20250727T180000
SUMMARY:Arrow Wrecker Impound Auction
LOCATION:700 N Villa Ave\, Oklahoma City\, OK 73107\, US
DESCRIPTION:TERMS & CONDITIONS: All vehicles are sold AS-IS with no wa
 rranties express nor implied\; it is the buyer's responsibili
 ty to inspect and verify information regarding vehicles\; Arr
 ow Wrecker and Bray Auctions have provided information to th
 e best of their ability\, but buyers have the ultimate respon
 sibility of due diligence. Highest Bidder Wins. The online b
 idding platform will close at a rate of 1 item per minute. I
 f a bid is made within the final 3 minutes of any item\, the 
 timer on THAT item will be reset to 3 minutes. Back up bidde
 rs and others will have the opportunity to bid again on that
  item. An item does not close or sell until the final 3 minu
 tes elapse with no further bids. All sales are final. It is 
 the bidder's responsibility to do due diligence on all items
  purchased. Any bidder that wins an item and does not pay wi
 ll have their bidding credentials revoked and will NEVER b
 e permitted to bid again. All items must be paid for before 
 they are removed. ALL items must be paid for and removed on 
 the Monday through Wednesday following the auction from 8:
 00am to 6:00pm. Any vehicles still not picked up during the 
 allotted time will be subject to a $5 per day storage fee. P
 ayments will be made at Arrow Wrecker Service by cash or cre
 dit card. ALL CARD PAYMENTS WILL INCUR A 2% SERVICE CHARGE. 
 If you have questions about vehicles\, please call Arrow Wrec
 ker at 405-943-1800. If you have questions about bidding\, pl
 ease call Bray Auctions at 405-888-5366. Good luck!
URL:https://www.bidbray.com/auctions/detail/bw145137
SEQUENCE:1
END:VEVENT
END:VCALENDAR