BEGIN:VCALENDAR
VERSION:2.0
PRODID:-//ExpressionEngine Easy iCalendar plugin//NONSGML v2.0.1//EN
X-WR-TIMEZONE:America/Chicago
X-WR-CALNAME:Upcoming Auctions
BEGIN:VEVENT
UID:145673
DTSTAMP:20250801T210000
DTSTART:20250801T210000
DTEND:20250812T140000
SUMMARY:Gemmark Moving Auction - High End Furniture\, Decor\, & Electr
 onics
LOCATION:{location}
DESCRIPTION:DATE & TIME Auction Closes: Tuesday\, August 12th\, Beginning 
 @ 2:00pm LOCATION & DIRECTIONS Items are located at: 2920 Vi
 a Esperanza\, Edmond\, OK 73013 SALE INFORMATION Inspection of
  items will be held by appointment only. Auction will be hel
 d online only. Download the Bray Auctions app or visit BidBr
 ay.com. Bidders are required to create an account and input 
 credit card information for authorization. All Purchases Mus
 t Be Paid For Before They Can Be Picked Up. Cash\, Checks\, Cr
 edit / Debit Cards\, and Wire Transfers Will Be Accepted. (3%
  Service Fee on All Credit /Debit Card Purchases). A 10% Buy
 er's Premium Will Be In Effect. A $100 Deposit / Authorizati
 on is required to register. Any Non Paying Bidders Will Have
  Their Cards Charged Up to the Full Purchase Amount and Be P
 ermanently Banned From Bidding. Removal of Items will be hel
 d by scheduled appointment on Wednesday\, August 13th and Thu
 rsday\, August 14th. Winning Bidders will be contacted to cho
 ose an appointment on Bray Auctions' scheduling system. ALL 
 SALES ARE FINAL.
URL:https://www.bidbray.com/auctions/detail/bw145673
SEQUENCE:1
END:VEVENT
END:VCALENDAR