BEGIN:VCALENDAR
VERSION:2.0
PRODID:-//ExpressionEngine Easy iCalendar plugin//NONSGML v2.0.1//EN
X-WR-TIMEZONE:America/Chicago
X-WR-CALNAME:Upcoming Auctions
BEGIN:VEVENT
UID:145967
DTSTAMP:20250806T180000
DTSTART:20250806T180000
DTEND:20250831T170000
SUMMARY:Firearms & Accessories
LOCATION:3900 S Broadway\, 2W\, Edmond\, OK 73013\, US
DESCRIPTION:DATE & TIME Auction Closes: Sunday\, August 31st\, Beginning @
  5:00pm LOCATION & DIRECTIONS Items are located at: 3900 S B
 roadway\, 2W\, Edmond\, OK 73013 SALE INFORMATION Inspection of
  items will be held by special appointment only. Bidders are
  required to create an account and input credit card informa
 tion for authorization. All Purchases Must Be Paid For Befor
 e They Can Be Picked Up. Cash\, Checks\, Credit / Debit Cards\,
  and Wire Transfers Will Be Accepted. (3% Convenience Fee on
  All Credit /Debit Card Purchases). A 10% Buyer's Premium Wi
 ll Be In Effect. All Sales are Final. Non Paying bidders wil
 l have their credit cards charged up to the full amount due 
 and be blocked from all future auctions. Removal of Items wi
 ll be held by scheduled appointment on Monday\, September 1st
  and Tuesday\, September 2nd. Winning Bidders will be contact
 ed to choose an appointment on Bray Auctions' scheduling sys
 tem. For Questions\, Contact Bray Auctions @ 405.888.5366
URL:https://www.bidbray.com/auctions/detail/bw145967
SEQUENCE:1
END:VEVENT
END:VCALENDAR