BEGIN:VCALENDAR
VERSION:2.0
PRODID:-//ExpressionEngine Easy iCalendar plugin//NONSGML v2.0.1//EN
X-WR-TIMEZONE:America/Chicago
X-WR-CALNAME:Upcoming Auctions
BEGIN:VEVENT
UID:146476
DTSTAMP:20250814T160000
DTSTART:20250814T160000
DTEND:20250821T194500
SUMMARY:Oklahoma Geological Foundation Rocks and Swing Fore STEM 202
 5 Silent Auction
LOCATION:{location}
DESCRIPTION:Auction Items 1-30 will close at 7:45pm. Auction Items 31-58
  will close at 7:50pm Bidder's Credit Card on file will be c
 harged immediately at the close of the auction. Our newest e
 vent\, Rocks & Swing Fore STEM\, started in 2019 as a family-f
 riendly fundraiser for the Foundation and the work we do to 
 support Earth science education.  About the event The Oklah
 oma Geological Foundation will hold its 7th annual Rocks &
  Swing FORE STEM event on August 21st\, 2025\, at TopGolf Okl
 ahoma City.  This year we will have 58 silent auction item
 s – beautiful fossils and minerals along with custom artwo
 rk\, jewelry\, and wine!  The silent auction will be online t
 hrough Bray’s Auction site and can be accessed with the ta
 b “Join the Silent Auction” below beginning sometime aro
 und August 15th.  Come to the event and bid on the live auc
 tion with 17 unique items. Join us in having fun hitting gol
 f balls\, socializing\, and feasting on a BBQ Buffet dinner pr
 ior to the auction. Live Auctioneer Richard Branch will en
 tertain again this year as they auction off the Live items. 
 This Live Auction will feature extraordinary wine collection
 s\, spectacular minerals & fossils and more.   You won’t w
 ant to miss the fun and auction excitement so get your ticke
 ts below. This exciting night will be held at – TopGolf Ok
 lahoma City 6:00 – 9:00 PM  Thursday\, August 21st 2025. O
 ne hundred percent of the net proceeds from this event suppo
 rts the Foundation’s efforts funding STEM & Geoscience pro
 jects for schools K – 12 and scholarships for university l
 evel students\, focused in the State of Oklahoma.
URL:https://www.bidbray.com/auctions/detail/bw146476
SEQUENCE:1
END:VEVENT
END:VCALENDAR