BEGIN:VCALENDAR
VERSION:2.0
PRODID:-//ExpressionEngine Easy iCalendar plugin//NONSGML v2.0.1//EN
X-WR-TIMEZONE:America/Chicago
X-WR-CALNAME:Upcoming Auctions
BEGIN:VEVENT
UID:146684
DTSTAMP:20250818T180000
DTSTART:20250818T180000
DTEND:20250915T120000
SUMMARY:9208 NW 137th St\, Yukon\, OK - GORGEOUS 2\,017 3bd\, 2ba Home w
 / Bonus Room & Upgrades!
LOCATION:9208 NW 137th St\, Yukon\, OK 73099\, US
DESCRIPTION:Property Description: Discover upscale living in this beauti
 fully updated Savannah Estates home in Yukon/NW Oklahoma C
 ity. Built in 2016 and offering roughly 2\,017 sq ft of l
 iving space\, this 3‑bedroom\, 2‑bath residence also inclu
 des an upstairs bonus room and a three‑car attached garage
 . The home is being sold by online auction— a unique oppor
 tunity to bid on a move‑in‑ready property in a sought‑
 after neighborhood. Inside\, you’ll find a bright open layo
 ut with wood\, tile and carpet flooring\, high ceilings and ne
 w LED recessed lighting in the living room and kitchen (inst
 alled by the current owners). The kitchen is designed for en
 tertaining with a large island\, stainless‑steel appliances
 \, beautiful cabinetry and a floor‑to‑ceiling built‑in 
 pantry. A gas‑log fireplace and custom woodwork give the l
 iving area warmth and character\, while a dining area and lau
 ndry room add everyday convenience. The primary suite serves
  as a private retreat. In addition to double vanities and a 
 jetted tub\, the owners have completely remodeled the walk‑
 in shower\, adding his‑and‑hers shower heads and an overh
 ead rain shower. The spa‑like bath also features a tankles
 s water heater and new tile accents. Two additional bedrooms
  share a full bath\, and the upstairs bonus room offers flexi
 ble space for a media room\, office or play area. Outside\, re
 lax on the extended covered patio with a solid‑wood pergol
 a\, perfect for outdoor dining or entertaining. The backyard 
 includes a sprinkler system and plenty of space for gardenin
 g or play. The three‑car garage provides ample storage and
  includes a storm shelter\, a common feature in this neighbor
 hood. Savannah Estates is known for its amenities: residen
 ts enjoy two lakes and a community pool with a cabana. The h
 ome sits on an interior lot of about 0.2066 acres and is wit
 hin the Piedmont school district (Stone Ridge Elementary\, Pi
 edmont Middle and Piedmont High schools). Location is a high
 light—this address is close to the John Kilpatrick Turnp
 ike\, which forms a partial beltway around the west and north
  side of Oklahoma City and links SH‑152/I‑240 to I‑35 
 and I‑44. Commuters will appreciate quick access to major 
 highways\, shopping and dining. Auction Details This home wil
 l be sold at online auction\, allowing buyers to bid from any
 where. Don’t miss the chance to own a well‑maintained\, u
 pgraded property in a desirable community. Contact us today 
 for auction dates\, registration details and to schedule a vi
 ewing.
URL:https://www.bidbray.com/auctions/detail/bw146684
SEQUENCE:1
END:VEVENT
END:VCALENDAR