BEGIN:VCALENDAR
VERSION:2.0
PRODID:-//ExpressionEngine Easy iCalendar plugin//NONSGML v2.0.1//EN
X-WR-TIMEZONE:America/Chicago
X-WR-CALNAME:Upcoming Auctions
BEGIN:VEVENT
UID:146999
DTSTAMP:20250823T120000
DTSTART:20250823T120000
DTEND:20250909T140000
SUMMARY:Antiques\, Furniture\, Art\, & Decor Auction
LOCATION:3900 S Broadway\, 2W\, Edmond\, OK 73013\, US
DESCRIPTION:DATE & TIME Auction Closes: Tuesday\, September 9th\, Beginnin
 g @ 2:00pm LOCATION & DIRECTIONS Items are located at: Bray 
 Auctions\, 3900 S Broadway\, 2W\, Edmond\, OK 73013 SALE INFORMA
 TION Inspection of items will be held by special appointment
  only. Bidders are required to create an account and input c
 redit card information for authorization. All Purchases Must
  Be Paid For Before They Can Be Picked Up. Cash\, Checks\, and
  Credit / Debit Cards Will Be Accepted. (3% Convenience Fee 
 on All Credit /Debit Card Purchases). A 10% Buyer's Premium 
 Will Be In Effect. All Sales Are Final. Non Paying Bidders w
 ill have their credit card on file charged up to the full am
 ount of purchase and will be blocked from all future auction
 s. Removal of Items will be held by scheduled appointment on
  Wednesday\, September 10th and Thursday\, September 11th. Win
 ning Bidders will be contacted to choose an appointment on B
 ray Auctions' scheduling system. For Questions\, Contact Bray
  Auctions @ 405.888.5366
URL:https://www.bidbray.com/auctions/detail/bw146999
SEQUENCE:1
END:VEVENT
END:VCALENDAR