BEGIN:VCALENDAR
VERSION:2.0
PRODID:-//ExpressionEngine Easy iCalendar plugin//NONSGML v2.0.1//EN
X-WR-TIMEZONE:America/Chicago
X-WR-CALNAME:Upcoming Auctions
BEGIN:VEVENT
UID:147479
DTSTAMP:20250831T120000
DTSTART:20250831T120000
DTEND:20250918T140000
SUMMARY:Stephens Estate Auction - Tools\, Antiques\, Furniture\, & More
LOCATION:9313 NE 13th St\, Midwest City\, OK 73130\, US
DESCRIPTION:DATE & TIME Auction Closes: Thursday\, September 18th\, Beginn
 ing @ 2:00pm LOCATION & DIRECTIONS Items are located at: 931
 3 NE 13th St\, Midwest City\, OK 73130 SALE INFORMATION Inspec
 tion of items will be held by appointment only. This is an o
 nline only auction. Bidders are required to create an accou
 nt and input credit card information for verification. All P
 urchases Must Be Paid For Before They Can Be Picked Up. Cash
 \, Checks\, Credit / Debit Cards\, and Wire Transfers Will Be A
 ccepted. (3% Service Fee on All Credit /Debit Card Purchases
 ). A 10% Buyer's Premium Will Be In Effect. A $100 Deposit /
  Authorization is required to register. Any Non Paying Bidde
 rs Will Have Their Cards Charged Up to the Full Purchase Amo
 unt and Be Permanently Banned From Bidding. Removal of Items
  will be held by scheduled appointment on Friday\, September 
 19th and Saturday\, September 20th. Winning Bidders will be c
 ontacted to choose an appointment on Bray Auctions' scheduli
 ng system. All sales are final.
URL:https://www.bidbray.com/auctions/detail/bw147479
SEQUENCE:1
END:VEVENT
END:VCALENDAR