BEGIN:VCALENDAR
VERSION:2.0
PRODID:-//ExpressionEngine Easy iCalendar plugin//NONSGML v2.0.1//EN
X-WR-TIMEZONE:America/Chicago
X-WR-CALNAME:Upcoming Auctions
BEGIN:VEVENT
UID:148358
DTSTAMP:20250915T100000
DTSTART:20250915T100000
DTEND:20250919T180000
SUMMARY:Lamb Towing & Recovery Impound Auction
LOCATION:1221 W Rock Creek Rd\, Norman\, OK 73069\, US
DESCRIPTION:TERMS & CONDITIONS: All vehicles are soldÂ AS-ISÂ with no wa
 rranties express nor implied\; it is the buyer's responsibili
 ty to inspect and verify information regarding vehicles\; Lam
 b Towing & Recovery and Bray Auctions have provided informat
 ion to the best of their ability\, but buyers have the ultima
 te responsibility of due diligence. Highest Bidder Wins. The
  online bidding platform will close at a rate of 1 item per 
 minute. If a bid is made within the final 3 minutes of any i
 tem\, the timer on THAT item will be reset to 3 minutes. Back
  up bidders and others will have the opportunity to bid agai
 n on that item. An item does not close or sell until the fin
 al 3 minutes elapse with no further bids. All sales are fina
 l. It is the bidder's responsibility to do due diligence on 
 all items purchased. Any bidder that wins an item and does n
 ot pay will have their bidding credentials revoked and willÂ
  NEVERÂ be permitted to bid again. All items must be paid fo
 r before they are removed. ALL items must be paid for and re
 moved on the Monday through Wednesday following the auction 
 from 8:00am to 5:00pm. Any vehicles still not picked up afte
 r 1 week will be subject to a $5 per day storage fee. Paymen
 ts will be made at Lamb Towing and Recovery by cash or credi
 t card. If you have questions about vehicles\, please call La
 mb Towing and RecoveryÂ atÂ 405-329-5262. If you have questi
 ons about bidding\, please call Bray Auctions atÂ 405-888-536
 6. Good luck!
URL:https://www.bidbray.com/auctions/detail/bw148358
SEQUENCE:1
END:VEVENT
END:VCALENDAR