BEGIN:VCALENDAR
VERSION:2.0
PRODID:-//ExpressionEngine Easy iCalendar plugin//NONSGML v2.0.1//EN
X-WR-TIMEZONE:America/Chicago
X-WR-CALNAME:Upcoming Auctions
BEGIN:VEVENT
UID:148862
DTSTAMP:20250922T120000
DTSTART:20250922T120000
DTEND:20251007T140000
SUMMARY:Thomas OKC Estate Auction - LOTS of Tools\, Equipment\, & Furn
 iture
LOCATION:2515 N Drexel Blvd\, Oklahoma City\, OK 73107\, US
DESCRIPTION:DATE & TIME Auction Closes: Tuesday\, October 7th\, Beginning 
 @ 2:00pm LOCATION & DIRECTIONS Items are located at: 2515 N 
 Drexel Blvd.\, Oklahoma City\, OK 73107 SALE INFORMATION Inspe
 ction of items will be held by appointment only. This is an 
 online only auction. Bidders are required to create an acco
 unt and input credit card information for verification. All 
 Purchases Must Be Paid For Before They Can Be Picked Up. Cas
 h\, Checks\, Credit / Debit Cards\, and Wire Transfers Will Be 
 Accepted. (3% Service Fee on All Credit /Debit Card Purchase
 s). A 10% Buyer's Premium Will Be In Effect. A $100 Deposit 
 / Authorization is required to register. Any Non Paying Bidd
 ers Will Have Their Cards Charged Up to the Full Purchase Am
 ount and Be Permanently Banned From Bidding. ALL SALES ARE F
 INAL. Removal of Items will be held by scheduled appointment
  on Wednesday\, October 8th and Thursday\, October 9th. Winnin
 g Bidders will be contacted to choose an appointment on Bray
  Auctions' scheduling system. All sales are final.
URL:https://www.bidbray.com/auctions/detail/bw148862
SEQUENCE:1
END:VEVENT
END:VCALENDAR