BEGIN:VCALENDAR
VERSION:2.0
PRODID:-//ExpressionEngine Easy iCalendar plugin//NONSGML v2.0.1//EN
X-WR-TIMEZONE:America/Chicago
X-WR-CALNAME:Upcoming Auctions
BEGIN:VEVENT
UID:149524
DTSTAMP:20251002T090000
DTSTART:20251002T090000
DTEND:20251022T130000
SUMMARY:NEW & High End Tools\, Industrial Equipment\, Vehicles\, & MORE
 !
LOCATION:15200 N May Ave\, Edmond\, OK 73013\, US
DESCRIPTION:DATE & TIME Auction Closes: Wednesday\, October 22nd\, Beginni
 ng @ 1:00pm LOCATION & DIRECTIONS Items are located at: Extr
 a Space Storage\, 15200 N May Ave\, Edmond\, OK 73013 SALE INFO
 RMATION Inspection of items will be held by special appointm
 ent only. Bidders are required to create an account and inpu
 t credit card information for authorization. All Purchases M
 ust Be Paid For Before They Can Be Picked Up. Cash\, Checks\, 
 and Credit / Debit Cards Will Be Accepted. (3% Convenience F
 ee on All Credit /Debit Card Purchases). A 10% Buyer's Premi
 um Will Be In Effect. All Sales Are Final. Non Paying Bidder
 s will have their credit card on file charged up to the full
  amount of purchase and will be blocked from all future auct
 ions. Removal of Items will be held by scheduled appointment
  on Thursday\, October 23rd and Friday\, October 24th. Winnin
 g Bidders will be contacted to choose an appointment on Bray
  Auctions' scheduling system. For Questions\, Contact Bray Au
 ctions @ 405.888.5366
URL:https://www.bidbray.com/auctions/detail/bw149524
SEQUENCE:1
END:VEVENT
END:VCALENDAR