BEGIN:VCALENDAR
VERSION:2.0
PRODID:-//ExpressionEngine Easy iCalendar plugin//NONSGML v2.0.1//EN
X-WR-TIMEZONE:America/Chicago
X-WR-CALNAME:Upcoming Auctions
BEGIN:VEVENT
UID:149804
DTSTAMP:20251009T120000
DTSTART:20251009T120000
DTEND:20251026T140000
SUMMARY:Francis Tuttle Technology Equipment\, Tools\, & Commercial Fur
 niture
LOCATION:12777 N Rockwell Ave\, Oklahoma City\, OK 73142\, US
DESCRIPTION:DATE & TIME Auction Closes: Sunday\, October 26th\, Beginning 
 @ 2:00pm LOCATION & DIRECTIONS Items are located at: Francis
  Tuttle\, 12777 N Rockwell Ave\, Oklahoma City\, OK 73142 SALE 
 INFORMATION Inspection of items will be held by appointment 
 only. Contact for appointment. Bidders are required to creat
 e an account and input credit card information for $100 Depo
 sit / Authorization. All Purchases Must Be Paid For Before T
 hey Can Be Picked Up. Cash\, Checks\, Credit / Debit Cards\, an
 d Wire Transfers Will Be Accepted. (3% Convenience Fee on Al
 l Credit /Debit Card Purchases). A 10% Buyer's Premium Will 
 Be In Effect. All Sales are Final. Non Paying Bidders will h
 ave their Credit Card Charged and will be blocked from futur
 e auctions. Removal of Items will be held by scheduled appoi
 ntment on Monday\, October 27th and Tuesday\, October 28th. Wi
 nning Bidders will be contacted to choose an appointment on 
 Bray Auctions' scheduling system.
URL:https://www.bidbray.com/auctions/detail/bw149804
SEQUENCE:1
END:VEVENT
END:VCALENDAR